BEGIN:VCALENDAR
PRODID:-//AT Content Types//AT Event//EN
VERSION:2.0
METHOD:PUBLISH
BEGIN:VEVENT
DTSTAMP:20260423T225551Z
CREATED:20081014T130517Z
UID:ATEvent-ddbd5217da2b99a66094293c2127872d
LAST-MODIFIED:20081014T130518Z
SUMMARY:MTH-TOP
DTSTART:20081125T150000Z
DTEND:20081125T163000Z
LOCATION:Lecture Room D
CONTACT:Bruno Zimmermann
URL:https://diploma-clear.ictp.it/courses/weekly-schedule/lecture-room-d/lecture.2008-10-14.5179105084
CLASS:PUBLIC
END:VEVENT
END:VCALENDAR
