BEGIN:VCALENDAR
PRODID:-//AT Content Types//AT Event//EN
VERSION:1.0
BEGIN:VEVENT
DTSTART:20081006T140000Z
DTEND:20081006T153000Z
DCREATED:20081014T130509Z
UID:ATEvent-a3b56304f1d918a8e2fe7e8fe8fb492d
SEQUENCE:0
LAST-MODIFIED:20081014T130509Z
SUMMARY:MTH-TOP
LOCATION:Lecture Room D
PRIORITY:3
TRANSP:0
END:VEVENT
END:VCALENDAR
