BEGIN:VCALENDAR
PRODID:-//AT Content Types//AT Event//EN
VERSION:1.0
BEGIN:VEVENT
DTSTART:20080930T140000Z
DTEND:20080930T153000Z
DCREATED:20081014T130508Z
UID:ATEvent-eb1044dfeccbdfa61c1711872686443c
SEQUENCE:0
LAST-MODIFIED:20081014T130508Z
SUMMARY:MTH-TOP
LOCATION:Lecture Room D
PRIORITY:3
TRANSP:0
END:VEVENT
END:VCALENDAR
