BEGIN:VCALENDAR
PRODID:-//AT Content Types//AT Event//EN
VERSION:1.0
BEGIN:VEVENT
DTSTART:20081023T070000Z
DTEND:20081023T083000Z
DCREATED:20081014T133736Z
UID:ATEvent-6d5be1fd9cca099e5f4c28db5876da0b
SEQUENCE:0
LAST-MODIFIED:20081014T133736Z
SUMMARY:MTH-CA
LOCATION:Lecture Room D
PRIORITY:3
TRANSP:0
END:VEVENT
END:VCALENDAR
