BEGIN:VCALENDAR
PRODID:-//AT Content Types//AT Event//EN
VERSION:1.0
BEGIN:VEVENT
DTSTART:20081002T070000Z
DTEND:20081002T083000Z
DCREATED:20081014T133732Z
UID:ATEvent-c33464e239f20cf8e7f6def4b934ebe9
SEQUENCE:0
LAST-MODIFIED:20081014T133732Z
SUMMARY:MTH-CA
LOCATION:Lecture Room D
PRIORITY:3
TRANSP:0
END:VEVENT
END:VCALENDAR
