BEGIN:VCALENDAR
PRODID:-//AT Content Types//AT Event//EN
VERSION:1.0
BEGIN:VEVENT
DTSTART:20080923T070000Z
DTEND:20080923T083000Z
DCREATED:20081014T132032Z
UID:ATEvent-59c394ef835a656b0cca3e1e4b5511c4
SEQUENCE:0
LAST-MODIFIED:20081014T132032Z
SUMMARY:MTH-CRN
LOCATION:Lecture Room D
PRIORITY:3
TRANSP:0
END:VEVENT
END:VCALENDAR
