BEGIN:VCALENDAR
PRODID:-//AT Content Types//AT Event//EN
VERSION:1.0
BEGIN:VEVENT
DTSTART:20080917T120000Z
DTEND:20080917T133000Z
DCREATED:20081014T130321Z
UID:ATEvent-45ff75b3e86d9672beb1d44a39e68ae8
SEQUENCE:0
LAST-MODIFIED:20081014T130322Z
SUMMARY:CMP-MT
LOCATION:Lecture Room D
PRIORITY:3
TRANSP:0
END:VEVENT
END:VCALENDAR
