BEGIN:VCALENDAR
PRODID:-//AT Content Types//AT Event//EN
VERSION:1.0
BEGIN:VEVENT
DTSTART:20080922T090000Z
DTEND:20080922T103000Z
DCREATED:20081014T130241Z
UID:ATEvent-930d500bb54a96a4d48ecaef23890d34
SEQUENCE:0
LAST-MODIFIED:20081014T130242Z
SUMMARY:MTH-LA
LOCATION:Lecture Room D
PRIORITY:3
TRANSP:0
END:VEVENT
END:VCALENDAR
