BEGIN:VCALENDAR
PRODID:-//AT Content Types//AT Event//EN
VERSION:2.0
METHOD:PUBLISH
BEGIN:VEVENT
DTSTAMP:20260422T175227Z
CREATED:20081014T130238Z
UID:ATEvent-77ebb6b3076511c19e45f4da35cead98
LAST-MODIFIED:20081014T130238Z
SUMMARY:MTH-LA
DTSTART:20080911T090000Z
DTEND:20080911T103000Z
LOCATION:Lecture Room D
CONTACT:Ramadas Ramakrishnan
URL:https://diploma-clear.ictp.it/courses/weekly-schedule/lecture-room-d/lecture.2008-10-14.3580745059
CLASS:PUBLIC
END:VEVENT
END:VCALENDAR
