BEGIN:VCALENDAR
PRODID:-//AT Content Types//AT Event//EN
VERSION:2.0
METHOD:PUBLISH
BEGIN:VEVENT
DTSTAMP:20260421T061500Z
CREATED:20081009T080551Z
UID:ATEvent-a4cd03a28a0d2cfc499d938429559c1d
LAST-MODIFIED:20081009T080551Z
SUMMARY:CMP - Mtg
DTSTART:20081205T130000Z
DTEND:20081205T143000Z
LOCATION:Lecture Room D
CONTACT:Arnab Chatterjee\, F. Franchini
URL:https://diploma-clear.ictp.it/courses/weekly-schedule/lecture-room-d/lecture.2008-10-09.5512041719
CLASS:PUBLIC
END:VEVENT
END:VCALENDAR
