BEGIN:VCALENDAR
PRODID:-//AT Content Types//AT Event//EN
VERSION:1.0
BEGIN:VEVENT
DTSTART:20081114T130000Z
DTEND:20081114T143000Z
DCREATED:20081009T080549Z
UID:ATEvent-c28769b4f4ba793362369040010024c0
SEQUENCE:0
LAST-MODIFIED:20081009T080550Z
SUMMARY:CMP - Mtg
LOCATION:Lecture Room D
PRIORITY:3
TRANSP:0
END:VEVENT
END:VCALENDAR
