BEGIN:VCALENDAR
PRODID:-//AT Content Types//AT Event//EN
VERSION:1.0
BEGIN:VEVENT
DTSTART:20211224T130000Z
DTEND:20211224T143000Z
DCREATED:20211011T134133Z
UID:ATEvent-8e0e9e5a90264d42b49ff91fd3dbad08
SEQUENCE:0
LAST-MODIFIED:20211011T134150Z
SUMMARY:in lieu of
LOCATION:Lecture Room D
PRIORITY:3
TRANSP:0
END:VEVENT
END:VCALENDAR
