BEGIN:VCALENDAR
PRODID:-//AT Content Types//AT Event//EN
VERSION:2.0
METHOD:PUBLISH
BEGIN:VEVENT
DTSTAMP:20260421T103733Z
CREATED:20191118T092927Z
UID:ATEvent-a8679e60a2b54e23aba453b7338b8073
LAST-MODIFIED:20191118T092942Z
SUMMARY:ICTP
DTSTART:20200106T100000Z
DTEND:20200106T113000Z
LOCATION:Lecture Room D
URL:https://diploma-clear.ictp.it/courses/weekly-schedule/lecture-room-d/ictp-29
CLASS:PUBLIC
END:VEVENT
END:VCALENDAR
