BEGIN:VCALENDAR
PRODID:-//ICTPDiploma//ATRoom//EN
VERSION:2.0
METHOD:PUBLISH
BEGIN:VEVENT
DTSTAMP:20260420T170219Z
CREATED:20081120T154152Z
UID:ATEvent-831e9c7196e490173cb3d44c634a33d2
LAST-MODIFIED:20081124T145933Z
SUMMARY:9:30 MTH-TOP
DTSTART:20081222T080000Z
DTEND:20081222T093000Z
LOCATION:Lecture Room D
CONTACT:Bruno Zimmermann
URL:https://diploma-clear.ictp.it/courses/weekly-schedule/lecture-room-d/mth-top-1
CLASS:PUBLIC
END:VEVENT
BEGIN:VEVENT
DTSTAMP:20260420T170219Z
CREATED:20081202T162315Z
UID:ATEvent-9d5ac0eafa00dee66fe72172f6eae641
LAST-MODIFIED:20081202T162351Z
SUMMARY:MTH-CA
DTSTART:20081223T080000Z
DTEND:20081223T093000Z
LOCATION:Lecture Room D
CONTACT:Dishant Pancholi
URL:https://diploma-clear.ictp.it/courses/weekly-schedule/lecture-room-d/mth-ca-7
CLASS:PUBLIC
END:VEVENT
BEGIN:VEVENT
DTSTAMP:20260420T170219Z
CREATED:20081201T133046Z
UID:ATEvent-f05e8196ce0c5c322b2ccca3c1ce94c4
LAST-MODIFIED:20081201T133311Z
SUMMARY:
DTSTART:20081224T080000Z
DTEND:20081224T180000Z
LOCATION:Lecture Room D
URL:https://diploma-clear.ictp.it/courses/weekly-schedule/lecture-room-d/-3
CLASS:PUBLIC
END:VEVENT
BEGIN:VEVENT
DTSTAMP:20260420T170219Z
CREATED:20081201T133350Z
UID:ATEvent-78c515dcb2e92f46c8f935825d93bd78
LAST-MODIFIED:20081201T133435Z
SUMMARY:
DTSTART:20081225T080000Z
DTEND:20081225T180000Z
LOCATION:Lecture Room D
URL:https://diploma-clear.ictp.it/courses/weekly-schedule/lecture-room-d/-4
CLASS:PUBLIC
END:VEVENT
BEGIN:VEVENT
DTSTAMP:20260420T170219Z
CREATED:20081201T133507Z
UID:ATEvent-7dcdb02074c32370d0c7c453a557d290
LAST-MODIFIED:20081201T133555Z
SUMMARY:
DTSTART:20081226T080000Z
DTEND:20081226T180000Z
LOCATION:Lecture Room D
URL:https://diploma-clear.ictp.it/courses/weekly-schedule/lecture-room-d/-5
CLASS:PUBLIC
END:VEVENT
BEGIN:VEVENT
DTSTAMP:20260420T170219Z
CREATED:20081120T154245Z
UID:ATEvent-3d2d8fc1779913adbb4d54442f674630
LAST-MODIFIED:20081120T154321Z
SUMMARY:EXAM
DTSTART:20081222T100000Z
DTEND:20081222T113000Z
LOCATION:Lecture Room D
CONTACT:Bruno Zimmermann
URL:https://diploma-clear.ictp.it/courses/weekly-schedule/lecture-room-d/exam-1
CLASS:PUBLIC
END:VEVENT
BEGIN:VEVENT
DTSTAMP:20260420T170219Z
CREATED:20081201T133046Z
UID:ATEvent-f05e8196ce0c5c322b2ccca3c1ce94c4
LAST-MODIFIED:20081201T133311Z
SUMMARY:
DTSTART:20081224T080000Z
DTEND:20081224T180000Z
LOCATION:Lecture Room D
URL:https://diploma-clear.ictp.it/courses/weekly-schedule/lecture-room-d/-3
CLASS:PUBLIC
END:VEVENT
BEGIN:VEVENT
DTSTAMP:20260420T170219Z
CREATED:20081201T133350Z
UID:ATEvent-78c515dcb2e92f46c8f935825d93bd78
LAST-MODIFIED:20081201T133435Z
SUMMARY:
DTSTART:20081225T080000Z
DTEND:20081225T180000Z
LOCATION:Lecture Room D
URL:https://diploma-clear.ictp.it/courses/weekly-schedule/lecture-room-d/-4
CLASS:PUBLIC
END:VEVENT
BEGIN:VEVENT
DTSTAMP:20260420T170219Z
CREATED:20081201T133507Z
UID:ATEvent-7dcdb02074c32370d0c7c453a557d290
LAST-MODIFIED:20081201T133555Z
SUMMARY:
DTSTART:20081226T080000Z
DTEND:20081226T180000Z
LOCATION:Lecture Room D
URL:https://diploma-clear.ictp.it/courses/weekly-schedule/lecture-room-d/-5
CLASS:PUBLIC
END:VEVENT
BEGIN:VEVENT
DTSTAMP:20260420T170219Z
CREATED:20081201T133046Z
UID:ATEvent-f05e8196ce0c5c322b2ccca3c1ce94c4
LAST-MODIFIED:20081201T133311Z
SUMMARY:
DTSTART:20081224T080000Z
DTEND:20081224T180000Z
LOCATION:Lecture Room D
URL:https://diploma-clear.ictp.it/courses/weekly-schedule/lecture-room-d/-3
CLASS:PUBLIC
END:VEVENT
BEGIN:VEVENT
DTSTAMP:20260420T170219Z
CREATED:20081201T133350Z
UID:ATEvent-78c515dcb2e92f46c8f935825d93bd78
LAST-MODIFIED:20081201T133435Z
SUMMARY:
DTSTART:20081225T080000Z
DTEND:20081225T180000Z
LOCATION:Lecture Room D
URL:https://diploma-clear.ictp.it/courses/weekly-schedule/lecture-room-d/-4
CLASS:PUBLIC
END:VEVENT
BEGIN:VEVENT
DTSTAMP:20260420T170219Z
CREATED:20081201T133507Z
UID:ATEvent-7dcdb02074c32370d0c7c453a557d290
LAST-MODIFIED:20081201T133555Z
SUMMARY:
DTSTART:20081226T080000Z
DTEND:20081226T180000Z
LOCATION:Lecture Room D
URL:https://diploma-clear.ictp.it/courses/weekly-schedule/lecture-room-d/-5
CLASS:PUBLIC
END:VEVENT
BEGIN:VEVENT
DTSTAMP:20260420T170219Z
CREATED:20081201T133046Z
UID:ATEvent-f05e8196ce0c5c322b2ccca3c1ce94c4
LAST-MODIFIED:20081201T133311Z
SUMMARY:
DTSTART:20081224T080000Z
DTEND:20081224T180000Z
LOCATION:Lecture Room D
URL:https://diploma-clear.ictp.it/courses/weekly-schedule/lecture-room-d/-3
CLASS:PUBLIC
END:VEVENT
BEGIN:VEVENT
DTSTAMP:20260420T170219Z
CREATED:20081201T133350Z
UID:ATEvent-78c515dcb2e92f46c8f935825d93bd78
LAST-MODIFIED:20081201T133435Z
SUMMARY:
DTSTART:20081225T080000Z
DTEND:20081225T180000Z
LOCATION:Lecture Room D
URL:https://diploma-clear.ictp.it/courses/weekly-schedule/lecture-room-d/-4
CLASS:PUBLIC
END:VEVENT
BEGIN:VEVENT
DTSTAMP:20260420T170219Z
CREATED:20081201T133507Z
UID:ATEvent-7dcdb02074c32370d0c7c453a557d290
LAST-MODIFIED:20081201T133555Z
SUMMARY:
DTSTART:20081226T080000Z
DTEND:20081226T180000Z
LOCATION:Lecture Room D
URL:https://diploma-clear.ictp.it/courses/weekly-schedule/lecture-room-d/-5
CLASS:PUBLIC
END:VEVENT
BEGIN:VEVENT
DTSTAMP:20260420T170219Z
CREATED:20081201T133046Z
UID:ATEvent-f05e8196ce0c5c322b2ccca3c1ce94c4
LAST-MODIFIED:20081201T133311Z
SUMMARY:
DTSTART:20081224T080000Z
DTEND:20081224T180000Z
LOCATION:Lecture Room D
URL:https://diploma-clear.ictp.it/courses/weekly-schedule/lecture-room-d/-3
CLASS:PUBLIC
END:VEVENT
BEGIN:VEVENT
DTSTAMP:20260420T170219Z
CREATED:20081201T133350Z
UID:ATEvent-78c515dcb2e92f46c8f935825d93bd78
LAST-MODIFIED:20081201T133435Z
SUMMARY:
DTSTART:20081225T080000Z
DTEND:20081225T180000Z
LOCATION:Lecture Room D
URL:https://diploma-clear.ictp.it/courses/weekly-schedule/lecture-room-d/-4
CLASS:PUBLIC
END:VEVENT
BEGIN:VEVENT
DTSTAMP:20260420T170219Z
CREATED:20081201T133507Z
UID:ATEvent-7dcdb02074c32370d0c7c453a557d290
LAST-MODIFIED:20081201T133555Z
SUMMARY:
DTSTART:20081226T080000Z
DTEND:20081226T180000Z
LOCATION:Lecture Room D
URL:https://diploma-clear.ictp.it/courses/weekly-schedule/lecture-room-d/-5
CLASS:PUBLIC
END:VEVENT
END:VCALENDAR
