BEGIN:VCALENDAR
PRODID:-//ICTPDiploma//ATRoom//EN
VERSION:2.0
METHOD:PUBLISH
BEGIN:VEVENT
DTSTAMP:20260423T053419Z
CREATED:20130912T130603Z
UID:ATEvent-91646a159bc94989a06e16b37b303e4b
LAST-MODIFIED:20130912T130633Z
SUMMARY:CMP-EPS tut. 3
DTSTART:20131126T080000Z
DTEND:20131126T093000Z
LOCATION:Lecture Room D
CONTACT:N. Stojic
URL:https://diploma-clear.ictp.it/courses/weekly-schedule/lecture-room-d/cmp-eps-tut-3
CLASS:PUBLIC
END:VEVENT
BEGIN:VEVENT
DTSTAMP:20260423T053419Z
CREATED:20131015T101909Z
UID:ATEvent-01093f4810044bf6981761d82d873475
LAST-MODIFIED:20131015T101929Z
SUMMARY:MTH-CA
DTSTART:20131129T080000Z
DTEND:20131129T093000Z
LOCATION:Lecture Room D
CONTACT:F. Vlacci
URL:https://diploma-clear.ictp.it/courses/weekly-schedule/lecture-room-d/mth-ca-72
CLASS:PUBLIC
END:VEVENT
BEGIN:VEVENT
DTSTAMP:20260423T053419Z
CREATED:20130814T091634Z
UID:ATEvent-570b68459c3447999e4713d2c03bc210
LAST-MODIFIED:20130814T091635Z
SUMMARY:CMP-AQM
DTSTART:20131126T100000Z
DTEND:20131126T113000Z
LOCATION:Lecture Room D
CONTACT:R. Gebauer
URL:https://diploma-clear.ictp.it/courses/weekly-schedule/lecture-room-d/lecture.2013-08-14.7949196627
CLASS:PUBLIC
END:VEVENT
BEGIN:VEVENT
DTSTAMP:20260423T053419Z
CREATED:20131104T095023Z
UID:ATEvent-1e8e7e9de4a04823958422c81cc653b3
LAST-MODIFIED:20131104T095042Z
SUMMARY:CMP-AQM
DTSTART:20131127T100000Z
DTEND:20131127T113000Z
LOCATION:Lecture Room D
CONTACT:R. Gebauer
URL:https://diploma-clear.ictp.it/courses/weekly-schedule/lecture-room-d/lecture.2013-11-04.6229906485
CLASS:PUBLIC
END:VEVENT
BEGIN:VEVENT
DTSTAMP:20260423T053419Z
CREATED:20130814T091635Z
UID:ATEvent-93f0207d7ce444ab90996ec622104b8b
LAST-MODIFIED:20130814T091635Z
SUMMARY:CMP-AQM
DTSTART:20131128T100000Z
DTEND:20131128T113000Z
LOCATION:Lecture Room D
CONTACT:R. Gebauer
URL:https://diploma-clear.ictp.it/courses/weekly-schedule/lecture-room-d/lecture.2013-08-14.7950658716
CLASS:PUBLIC
END:VEVENT
BEGIN:VEVENT
DTSTAMP:20260423T053419Z
CREATED:20131015T101939Z
UID:ATEvent-2c9e66e9446d4ff9bcd3922f2bb4a5cf
LAST-MODIFIED:20131015T102003Z
SUMMARY:EXAM
DTSTART:20131129T100000Z
DTEND:20131129T113000Z
LOCATION:Lecture Room D
CONTACT:F. Vlacci
URL:https://diploma-clear.ictp.it/courses/weekly-schedule/lecture-room-d/exam-78
CLASS:PUBLIC
END:VEVENT
BEGIN:VEVENT
DTSTAMP:20260423T053419Z
CREATED:20130814T094300Z
UID:ATEvent-10ee87c3e8ce49eb8138904f94e02810
LAST-MODIFIED:20130814T094300Z
SUMMARY:CMP-SM
DTSTART:20131125T130000Z
DTEND:20131125T143000Z
LOCATION:Lecture Room D
CONTACT:A. Scardicchio
URL:https://diploma-clear.ictp.it/courses/weekly-schedule/lecture-room-d/lecture.2013-08-14.3800620394
CLASS:PUBLIC
END:VEVENT
BEGIN:VEVENT
DTSTAMP:20260423T053419Z
CREATED:20130814T094300Z
UID:ATEvent-d37f6307a4434011ae220bb18de0ad03
LAST-MODIFIED:20130814T094300Z
SUMMARY:CMP-SM
DTSTART:20131127T130000Z
DTEND:20131127T143000Z
LOCATION:Lecture Room D
CONTACT:A. Scardicchio
URL:https://diploma-clear.ictp.it/courses/weekly-schedule/lecture-room-d/lecture.2013-08-14.3802150133
CLASS:PUBLIC
END:VEVENT
BEGIN:VEVENT
DTSTAMP:20260423T053419Z
CREATED:20130814T094300Z
UID:ATEvent-80d9b22649a44c379bdd2dadc6c9b5a5
LAST-MODIFIED:20130814T094300Z
SUMMARY:CMP-SM
DTSTART:20131128T130000Z
DTEND:20131128T143000Z
LOCATION:Lecture Room D
CONTACT:A. Scardicchio
URL:https://diploma-clear.ictp.it/courses/weekly-schedule/lecture-room-d/lecture.2013-08-14.3803738608
CLASS:PUBLIC
END:VEVENT
BEGIN:VEVENT
DTSTAMP:20260423T053419Z
CREATED:20130814T094502Z
UID:ATEvent-683f93c32cb942b4aa386c7d47a01e28
LAST-MODIFIED:20130814T094502Z
SUMMARY:CMP-ST I
DTSTART:20131129T130000Z
DTEND:20131129T143000Z
LOCATION:Lecture Room D
CONTACT:N. Seriani\, Y. Crespo
URL:https://diploma-clear.ictp.it/courses/weekly-schedule/lecture-room-d/lecture.2013-08-14.5025184691
CLASS:PUBLIC
END:VEVENT
BEGIN:VEVENT
DTSTAMP:20260423T053419Z
CREATED:20131002T085154Z
UID:ATEvent-99b8001374f84427add4a59f22dc5684
LAST-MODIFIED:20131002T085219Z
SUMMARY:"Talking about Relationship"
DTSTART:20131128T150000Z
DTEND:20131128T163000Z
LOCATION:Lecture Room D
URL:https://diploma-clear.ictp.it/courses/weekly-schedule/lecture-room-d/talking-about-relationship
CLASS:PUBLIC
END:VEVENT
END:VCALENDAR
