BEGIN:VCALENDAR
PRODID:-//ICTPDiploma//ATRoom//EN
VERSION:2.0
METHOD:PUBLISH
BEGIN:VEVENT
DTSTAMP:20260421T233819Z
CREATED:20130814T092000Z
UID:ATEvent-e5a1e699c5ac445eb2e02c579d24a0e8
LAST-MODIFIED:20130912T130213Z
SUMMARY:CMP-EPS test
DTSTART:20131028T080000Z
DTEND:20131028T093000Z
LOCATION:Lecture Room D
CONTACT:N. Stojic
URL:https://diploma-clear.ictp.it/courses/weekly-schedule/lecture-room-d/cmp-eps-test-2
CLASS:PUBLIC
END:VEVENT
BEGIN:VEVENT
DTSTAMP:20260421T233819Z
CREATED:20130814T092000Z
UID:ATEvent-54a4ab0e16374c3bb76fad36f9f13070
LAST-MODIFIED:20130814T092000Z
SUMMARY:CMP-EPS
DTSTART:20131029T080000Z
DTEND:20131029T093000Z
LOCATION:Lecture Room D
CONTACT:N. Binggeli
URL:https://diploma-clear.ictp.it/courses/weekly-schedule/lecture-room-d/lecture.2013-08-14.0005382006
CLASS:PUBLIC
END:VEVENT
BEGIN:VEVENT
DTSTAMP:20260421T233819Z
CREATED:20130814T092000Z
UID:ATEvent-f3d0475e48e6466796d67e8e91633a2a
LAST-MODIFIED:20130912T130408Z
SUMMARY:CMP-EPS
DTSTART:20131031T080000Z
DTEND:20131031T093000Z
LOCATION:Lecture Room D
CONTACT:N. Stojic
URL:https://diploma-clear.ictp.it/courses/weekly-schedule/lecture-room-d/cmp-eps-16
CLASS:PUBLIC
END:VEVENT
BEGIN:VEVENT
DTSTAMP:20260421T233819Z
CREATED:20131002T084511Z
UID:ATEvent-81cb87c1a2e14ca5bb79806e9df74102
LAST-MODIFIED:20131002T084537Z
SUMMARY:ICTP
DTSTART:20131101T080000Z
DTEND:20131101T093000Z
LOCATION:Lecture Room D
URL:https://diploma-clear.ictp.it/courses/weekly-schedule/lecture-room-d/ictp-11
CLASS:PUBLIC
END:VEVENT
BEGIN:VEVENT
DTSTAMP:20260421T233819Z
CREATED:20130814T091633Z
UID:ATEvent-19d85e63b7834dca901835723487b4bc
LAST-MODIFIED:20130814T091633Z
SUMMARY:CMP-AQM
DTSTART:20131029T100000Z
DTEND:20131029T113000Z
LOCATION:Lecture Room D
CONTACT:R. Gebauer
URL:https://diploma-clear.ictp.it/courses/weekly-schedule/lecture-room-d/lecture.2013-08-14.7935094381
CLASS:PUBLIC
END:VEVENT
BEGIN:VEVENT
DTSTAMP:20260421T233819Z
CREATED:20130814T091633Z
UID:ATEvent-245772274dec4644a259696ad33e950f
LAST-MODIFIED:20131015T101336Z
SUMMARY:CMP-AQM
DTSTART:20131031T100000Z
DTEND:20131031T113000Z
LOCATION:Lecture Room D
CONTACT:G. Santoro
URL:https://diploma-clear.ictp.it/courses/weekly-schedule/lecture-room-d/lecture.2013-08-14.7938245506
CLASS:PUBLIC
END:VEVENT
BEGIN:VEVENT
DTSTAMP:20260421T233819Z
CREATED:20131002T084542Z
UID:ATEvent-abcd2d80efcc4be2b4bc94a7a5ab639a
LAST-MODIFIED:20131002T084601Z
SUMMARY:OFFICIAL HOLIDAY
DTSTART:20131101T100000Z
DTEND:20131101T113000Z
LOCATION:Lecture Room D
URL:https://diploma-clear.ictp.it/courses/weekly-schedule/lecture-room-d/official-holiday-6
CLASS:PUBLIC
END:VEVENT
BEGIN:VEVENT
DTSTAMP:20260421T233819Z
CREATED:20130814T094258Z
UID:ATEvent-3fad8077e970429e92e158c3fb622dcd
LAST-MODIFIED:20130814T094258Z
SUMMARY:CMP-SM
DTSTART:20131028T130000Z
DTEND:20131028T143000Z
LOCATION:Lecture Room D
CONTACT:A. Scardicchio
URL:https://diploma-clear.ictp.it/courses/weekly-schedule/lecture-room-d/lecture.2013-08-14.3779839428
CLASS:PUBLIC
END:VEVENT
BEGIN:VEVENT
DTSTAMP:20260421T233819Z
CREATED:20130814T094258Z
UID:ATEvent-31a2a5c805bd41a3aa8da06fe701d1ad
LAST-MODIFIED:20130814T094258Z
SUMMARY:CMP-SM
DTSTART:20131030T130000Z
DTEND:20131030T143000Z
LOCATION:Lecture Room D
CONTACT:A. Scardicchio
URL:https://diploma-clear.ictp.it/courses/weekly-schedule/lecture-room-d/lecture.2013-08-14.3782665258
CLASS:PUBLIC
END:VEVENT
BEGIN:VEVENT
DTSTAMP:20260421T233819Z
CREATED:20130814T094258Z
UID:ATEvent-44e901a1e49a45b98d8e00bd4d02b1c6
LAST-MODIFIED:20130814T094258Z
SUMMARY:CMP-SM
DTSTART:20131031T130000Z
DTEND:20131031T143000Z
LOCATION:Lecture Room D
CONTACT:A. Scardicchio
URL:https://diploma-clear.ictp.it/courses/weekly-schedule/lecture-room-d/lecture.2013-08-14.3784572534
CLASS:PUBLIC
END:VEVENT
BEGIN:VEVENT
DTSTAMP:20260421T233819Z
CREATED:20131002T084609Z
UID:ATEvent-73f1fef1e02648dba9ad43d57cc7aba9
LAST-MODIFIED:20131002T084629Z
SUMMARY:All Saints Day
DTSTART:20131101T130000Z
DTEND:20131101T143000Z
LOCATION:Lecture Room D
URL:https://diploma-clear.ictp.it/courses/weekly-schedule/lecture-room-d/all-saints-day-2
CLASS:PUBLIC
END:VEVENT
BEGIN:VEVENT
DTSTAMP:20260421T233819Z
CREATED:20131002T084639Z
UID:ATEvent-a90d793df6154c7889cdc3c7be7cddd6
LAST-MODIFIED:20131002T084658Z
SUMMARY:
DTSTART:20131101T150000Z
DTEND:20131101T180000Z
LOCATION:Lecture Room D
URL:https://diploma-clear.ictp.it/courses/weekly-schedule/lecture-room-d/-70
CLASS:PUBLIC
END:VEVENT
BEGIN:VEVENT
DTSTAMP:20260421T233819Z
CREATED:20131002T084639Z
UID:ATEvent-a90d793df6154c7889cdc3c7be7cddd6
LAST-MODIFIED:20131002T084658Z
SUMMARY:
DTSTART:20131101T150000Z
DTEND:20131101T180000Z
LOCATION:Lecture Room D
URL:https://diploma-clear.ictp.it/courses/weekly-schedule/lecture-room-d/-70
CLASS:PUBLIC
END:VEVENT
END:VCALENDAR
