BEGIN:VCALENDAR
PRODID:-//ICTPDiploma//ATRoom//EN
VERSION:2.0
METHOD:PUBLISH
BEGIN:VEVENT
DTSTAMP:20260422T194550Z
CREATED:20130814T091959Z
UID:ATEvent-e088c3042ca54b64af301b6d69462e85
LAST-MODIFIED:20130814T092000Z
SUMMARY:CMP-EPS
DTSTART:20131021T070000Z
DTEND:20131021T083000Z
LOCATION:Lecture Room D
CONTACT:N. Binggeli
URL:https://diploma-clear.ictp.it/courses/weekly-schedule/lecture-room-d/lecture.2013-08-14.9999115564
CLASS:PUBLIC
END:VEVENT
BEGIN:VEVENT
DTSTAMP:20260422T194550Z
CREATED:20130912T125303Z
UID:ATEvent-18828d4317084929937f05db21074d48
LAST-MODIFIED:20130912T125558Z
SUMMARY:CMP-EPS
DTSTART:20131022T070000Z
DTEND:20131022T083000Z
LOCATION:Lecture Room D
CONTACT:N. Binggeli
URL:https://diploma-clear.ictp.it/courses/weekly-schedule/lecture-room-d/cmp-eps-15
CLASS:PUBLIC
END:VEVENT
BEGIN:VEVENT
DTSTAMP:20260422T194550Z
CREATED:20130814T092000Z
UID:ATEvent-d229739c8e3540c3938ce5437dca582e
LAST-MODIFIED:20130912T125958Z
SUMMARY:CMP-EPS
DTSTART:20131024T070000Z
DTEND:20131024T083000Z
LOCATION:Lecture Room D
CONTACT:N. Binggeli
URL:https://diploma-clear.ictp.it/courses/weekly-schedule/lecture-room-d/cmp-eps-test-1
CLASS:PUBLIC
END:VEVENT
BEGIN:VEVENT
DTSTAMP:20260422T194550Z
CREATED:20130814T091633Z
UID:ATEvent-e614399741e84220ba59d70089a6d6fa
LAST-MODIFIED:20130814T091633Z
SUMMARY:CMP-AQM
DTSTART:20131022T090000Z
DTEND:20131022T103000Z
LOCATION:Lecture Room D
CONTACT:R. Gebauer
URL:https://diploma-clear.ictp.it/courses/weekly-schedule/lecture-room-d/lecture.2013-08-14.7930875691
CLASS:PUBLIC
END:VEVENT
BEGIN:VEVENT
DTSTAMP:20260422T194550Z
CREATED:20130814T092000Z
UID:ATEvent-fef6ff0c133748d09ba3133f1a08739a
LAST-MODIFIED:20130912T125224Z
SUMMARY:CMP-EPS tut. 1
DTSTART:20131023T090000Z
DTEND:20131023T103000Z
LOCATION:Lecture Room D
CONTACT:N. Stojic
URL:https://diploma-clear.ictp.it/courses/weekly-schedule/lecture-room-d/cmp-eps-tut-1
CLASS:PUBLIC
END:VEVENT
BEGIN:VEVENT
DTSTAMP:20260422T194550Z
CREATED:20130814T091633Z
UID:ATEvent-70e76b766a384ede91856551e8518891
LAST-MODIFIED:20130814T091633Z
SUMMARY:CMP-AQM
DTSTART:20131024T090000Z
DTEND:20131024T103000Z
LOCATION:Lecture Room D
CONTACT:R. Gebauer
URL:https://diploma-clear.ictp.it/courses/weekly-schedule/lecture-room-d/lecture.2013-08-14.7933692670
CLASS:PUBLIC
END:VEVENT
BEGIN:VEVENT
DTSTAMP:20260422T194550Z
CREATED:20131008T152308Z
UID:ATEvent-80570b368d9340cfb0007b7c4b0f96e1
LAST-MODIFIED:20131008T152611Z
SUMMARY:CMP-SM
DTSTART:20131021T120000Z
DTEND:20131021T133000Z
LOCATION:Lecture Room D
CONTACT:A. Scardicchio
URL:https://diploma-clear.ictp.it/courses/weekly-schedule/lecture-room-d/cmp-sm-83
CLASS:PUBLIC
END:VEVENT
BEGIN:VEVENT
DTSTAMP:20260422T194550Z
CREATED:20131008T152637Z
UID:ATEvent-29ccd443f559446e86fb7517afd728b3
LAST-MODIFIED:20131008T152715Z
SUMMARY:CMP-SM
DTSTART:20131023T120000Z
DTEND:20131023T133000Z
LOCATION:Lecture Room D
CONTACT:A. Scardicchio
URL:https://diploma-clear.ictp.it/courses/weekly-schedule/lecture-room-d/cmp-sm-84
CLASS:PUBLIC
END:VEVENT
BEGIN:VEVENT
DTSTAMP:20260422T194550Z
CREATED:20131008T152725Z
UID:ATEvent-03499bbe93754e29bf6a803d8025b696
LAST-MODIFIED:20131008T152802Z
SUMMARY:CMP-SM
DTSTART:20131024T120000Z
DTEND:20131024T133000Z
LOCATION:Lecture Room D
CONTACT:A. Scardicchio
URL:https://diploma-clear.ictp.it/courses/weekly-schedule/lecture-room-d/cmp-sm-85
CLASS:PUBLIC
END:VEVENT
BEGIN:VEVENT
DTSTAMP:20260422T194550Z
CREATED:20130814T094501Z
UID:ATEvent-b40542bebb264a5caeda8bf1d0fba28e
LAST-MODIFIED:20130814T094501Z
SUMMARY:CMP-ST I
DTSTART:20131025T120000Z
DTEND:20131025T133000Z
LOCATION:Lecture Room D
CONTACT:N. Seriani\, Y. Crespo
URL:https://diploma-clear.ictp.it/courses/weekly-schedule/lecture-room-d/lecture.2013-08-14.5016668813
CLASS:PUBLIC
END:VEVENT
END:VCALENDAR
