BEGIN:VCALENDAR
PRODID:-//ICTPDiploma//ATRoom//EN
VERSION:2.0
METHOD:PUBLISH
BEGIN:VEVENT
DTSTAMP:20260420T141959Z
CREATED:20210908T120629Z
UID:ATEvent-b8c01f9702a9414a950c972d81814260
LAST-MODIFIED:20210908T120629Z
SUMMARY:MTH-RA tut.
DTSTART:20211018T070000Z
DTEND:20211018T083000Z
LOCATION:Lecture Room D
CONTACT:C. Gonzalez Riquelme
URL:https://diploma-clear.ictp.it/courses/weekly-schedule/lecture-room-d/lecture.2021-09-08.7891820601
CLASS:PUBLIC
END:VEVENT
BEGIN:VEVENT
DTSTAMP:20260420T141959Z
CREATED:20211021T094047Z
UID:ATEvent-19f518c04ad24d6697b2509c0a326667
LAST-MODIFIED:20211021T094121Z
SUMMARY:MTH-TOP tut.
DTSTART:20211021T070000Z
DTEND:20211021T083000Z
LOCATION:Lecture Room D
CONTACT:Song Ri
URL:https://diploma-clear.ictp.it/courses/weekly-schedule/lecture-room-d/mth-top-tut-15
CLASS:PUBLIC
END:VEVENT
BEGIN:VEVENT
DTSTAMP:20260420T141959Z
CREATED:20211013T121141Z
UID:ATEvent-d23d4dae756c424c84b64e380443eb3d
LAST-MODIFIED:20211018T125120Z
SUMMARY:QLS-EE (3)
DTSTART:20211018T090000Z
DTEND:20211018T103000Z
LOCATION:Lecture Room D
CONTACT:none/unknown
URL:https://diploma-clear.ictp.it/courses/weekly-schedule/lecture-room-d/qls-ee-1
CLASS:PUBLIC
END:VEVENT
BEGIN:VEVENT
DTSTAMP:20260420T141959Z
CREATED:20211011T100334Z
UID:ATEvent-fad1a314c30444b38b535c82ee0b60c1
LAST-MODIFIED:20211011T101545Z
SUMMARY:
DTSTART:20211019T090000Z
DTEND:20211019T103000Z
LOCATION:Lecture Room D
URL:https://diploma-clear.ictp.it/courses/weekly-schedule/lecture-room-d/lecture.2021-10-11.6148844305
CLASS:PUBLIC
END:VEVENT
BEGIN:VEVENT
DTSTAMP:20260420T141959Z
CREATED:20211018T125144Z
UID:ATEvent-5f9170c75bf74cf8814eb5b82c87f340
LAST-MODIFIED:20211018T125201Z
SUMMARY:
DTSTART:20211021T090000Z
DTEND:20211021T103000Z
LOCATION:Lecture Room D
URL:https://diploma-clear.ictp.it/courses/weekly-schedule/lecture-room-d/lecture.2021-10-18.5047826261
CLASS:PUBLIC
END:VEVENT
BEGIN:VEVENT
DTSTAMP:20260420T141959Z
CREATED:20211015T125657Z
UID:ATEvent-c40b657250694a4182c1eb63b2990fc9
LAST-MODIFIED:20211015T125719Z
SUMMARY:
DTSTART:20211022T090000Z
DTEND:20211022T103000Z
LOCATION:Lecture Room D
URL:https://diploma-clear.ictp.it/courses/weekly-schedule/lecture-room-d/lecture.2021-10-15.6177286991
CLASS:PUBLIC
END:VEVENT
BEGIN:VEVENT
DTSTAMP:20260420T141959Z
CREATED:20211021T094126Z
UID:ATEvent-f452e29316924a729234176f58cb4ecf
LAST-MODIFIED:20211021T094143Z
SUMMARY:MTH-RA tut.
DTSTART:20211021T120000Z
DTEND:20211021T133000Z
LOCATION:Lecture Room D
CONTACT:C. Gonzalez Riquelme
URL:https://diploma-clear.ictp.it/courses/weekly-schedule/lecture-room-d/mth-ra-tut-31
CLASS:PUBLIC
END:VEVENT
BEGIN:VEVENT
DTSTAMP:20260420T141959Z
CREATED:20210810T100536Z
UID:ATEvent-ce6b7dfb33394bbd8c14491f7afb434c
LAST-MODIFIED:20210810T100616Z
SUMMARY:in BLH Dirac Medal
DTSTART:20211022T120000Z
DTEND:20211022T133000Z
LOCATION:Lecture Room D
URL:https://diploma-clear.ictp.it/courses/weekly-schedule/lecture-room-d/in-blh-dirac-medal
CLASS:PUBLIC
END:VEVENT
BEGIN:VEVENT
DTSTAMP:20260420T141959Z
CREATED:20210810T100306Z
UID:ATEvent-d24ea29dd26e48f1985394a2d6f6a3f4
LAST-MODIFIED:20210907T103411Z
SUMMARY:MTH-ALG
DTSTART:20211018T140000Z
DTEND:20211018T153000Z
LOCATION:Lecture Room D
CONTACT:L. Göttsche
URL:https://diploma-clear.ictp.it/courses/weekly-schedule/lecture-room-d/mth-alg-65
CLASS:PUBLIC
END:VEVENT
BEGIN:VEVENT
DTSTAMP:20260420T141959Z
CREATED:20210810T100305Z
UID:ATEvent-f64918987d294437bf87b89198718c8f
LAST-MODIFIED:20210907T103339Z
SUMMARY:MTH-ALG
DTSTART:20211020T140000Z
DTEND:20211020T153000Z
LOCATION:Lecture Room D
CONTACT:L. Göttsche
URL:https://diploma-clear.ictp.it/courses/weekly-schedule/lecture-room-d/mth-alg-64
CLASS:PUBLIC
END:VEVENT
BEGIN:VEVENT
DTSTAMP:20260420T141959Z
CREATED:20210810T100305Z
UID:ATEvent-3b9bcf818e594fd28178279ed8b95afc
LAST-MODIFIED:20210907T103257Z
SUMMARY:MTH-ALG
DTSTART:20211021T140000Z
DTEND:20211021T153000Z
LOCATION:Lecture Room D
CONTACT:L. Göttsche
URL:https://diploma-clear.ictp.it/courses/weekly-schedule/lecture-room-d/mth-alg-63
CLASS:PUBLIC
END:VEVENT
BEGIN:VEVENT
DTSTAMP:20260420T141959Z
CREATED:20210810T100620Z
UID:ATEvent-2a1b18246f69467ca8ae2720559f65d8
LAST-MODIFIED:20210810T100644Z
SUMMARY:Award Ceremony
DTSTART:20211022T140000Z
DTEND:20211022T153000Z
LOCATION:Lecture Room D
URL:https://diploma-clear.ictp.it/courses/weekly-schedule/lecture-room-d/award-ceremony
CLASS:PUBLIC
END:VEVENT
END:VCALENDAR
