BEGIN:VCALENDAR
PRODID:-//ICTPDiploma//ATRoom//EN
VERSION:2.0
METHOD:PUBLISH
BEGIN:VEVENT
DTSTAMP:20260421T225945Z
CREATED:20130814T091958Z
UID:ATEvent-f2698995e5384aedb931172ba2bc99e5
LAST-MODIFIED:20130814T091959Z
SUMMARY:CMP-EPS
DTSTART:20131007T070000Z
DTEND:20131007T083000Z
LOCATION:Lecture Room D
CONTACT:N. Binggeli
URL:https://diploma-clear.ictp.it/courses/weekly-schedule/lecture-room-d/lecture.2013-08-14.9988800841
CLASS:PUBLIC
END:VEVENT
BEGIN:VEVENT
DTSTAMP:20260421T225945Z
CREATED:20130814T091959Z
UID:ATEvent-65edd43bbd49482a93ff49d99825730b
LAST-MODIFIED:20130814T091959Z
SUMMARY:CMP-EPS
DTSTART:20131008T070000Z
DTEND:20131008T083000Z
LOCATION:Lecture Room D
CONTACT:N. Binggeli
URL:https://diploma-clear.ictp.it/courses/weekly-schedule/lecture-room-d/lecture.2013-08-14.9990420138
CLASS:PUBLIC
END:VEVENT
BEGIN:VEVENT
DTSTAMP:20260421T225945Z
CREATED:20130814T091959Z
UID:ATEvent-ff751a1e8b53401b82bbe73237a69656
LAST-MODIFIED:20130814T091959Z
SUMMARY:CMP-EPS
DTSTART:20131010T070000Z
DTEND:20131010T083000Z
LOCATION:Lecture Room D
CONTACT:N. Binggeli
URL:https://diploma-clear.ictp.it/courses/weekly-schedule/lecture-room-d/lecture.2013-08-14.9992485376
CLASS:PUBLIC
END:VEVENT
BEGIN:VEVENT
DTSTAMP:20260421T225945Z
CREATED:20130814T090956Z
UID:ATEvent-353d63a58a904a38a9fe91fa2af5c5d6
LAST-MODIFIED:20131010T135012Z
SUMMARY:CMP-AQM
DTSTART:20131010T090000Z
DTEND:20131010T103000Z
LOCATION:Lecture Room D
CONTACT:G. Santoro
URL:https://diploma-clear.ictp.it/courses/weekly-schedule/lecture-room-d/lecture.2013-08-14.3963697727
CLASS:PUBLIC
END:VEVENT
BEGIN:VEVENT
DTSTAMP:20260421T225945Z
CREATED:20130814T090956Z
UID:ATEvent-e24dcb49784446dcb770477a69a7464d
LAST-MODIFIED:20130814T090956Z
SUMMARY:CMP-AQM
DTSTART:20131008T120000Z
DTEND:20131008T133000Z
LOCATION:Lecture Room D
CONTACT:G. Santoro
URL:https://diploma-clear.ictp.it/courses/weekly-schedule/lecture-room-d/lecture.2013-08-14.3960630540
CLASS:PUBLIC
END:VEVENT
BEGIN:VEVENT
DTSTAMP:20260421T225945Z
CREATED:20130814T090956Z
UID:ATEvent-5fa0ec246a3d4d6090ff2236699a0c59
LAST-MODIFIED:20130814T090956Z
SUMMARY:CMP-AQM
DTSTART:20131009T120000Z
DTEND:20131009T133000Z
LOCATION:Lecture Room D
CONTACT:G. Santoro
URL:https://diploma-clear.ictp.it/courses/weekly-schedule/lecture-room-d/lecture.2013-08-14.3962136953
CLASS:PUBLIC
END:VEVENT
BEGIN:VEVENT
DTSTAMP:20260421T225945Z
CREATED:20130814T094501Z
UID:ATEvent-24e7b24e74e24cffb896fabdf75e95d7
LAST-MODIFIED:20130814T094501Z
SUMMARY:CMP-ST I
DTSTART:20131011T120000Z
DTEND:20131011T133000Z
LOCATION:Lecture Room D
CONTACT:N. Seriani\, Y. Crespo
URL:https://diploma-clear.ictp.it/courses/weekly-schedule/lecture-room-d/lecture.2013-08-14.5013551408
CLASS:PUBLIC
END:VEVENT
END:VCALENDAR
