BEGIN:VCALENDAR
PRODID:-//ICTPDiploma//ATRoom//EN
VERSION:2.0
METHOD:PUBLISH
BEGIN:VEVENT
DTSTAMP:20260421T233815Z
CREATED:20130814T091958Z
UID:ATEvent-c2b539339a6e41fc8b076c46bb44fce3
LAST-MODIFIED:20130814T091958Z
SUMMARY:CMP-EPS
DTSTART:20130930T070000Z
DTEND:20130930T083000Z
LOCATION:Lecture Room D
CONTACT:N. Binggeli
URL:https://diploma-clear.ictp.it/courses/weekly-schedule/lecture-room-d/lecture.2013-08-14.9983212430
CLASS:PUBLIC
END:VEVENT
BEGIN:VEVENT
DTSTAMP:20260421T233815Z
CREATED:20130814T091958Z
UID:ATEvent-adb6c7f60806459ab30ae0e11054304c
LAST-MODIFIED:20130814T091958Z
SUMMARY:CMP-EPS
DTSTART:20131001T070000Z
DTEND:20131001T083000Z
LOCATION:Lecture Room D
CONTACT:N. Binggeli
URL:https://diploma-clear.ictp.it/courses/weekly-schedule/lecture-room-d/lecture.2013-08-14.9985227751
CLASS:PUBLIC
END:VEVENT
BEGIN:VEVENT
DTSTAMP:20260421T233815Z
CREATED:20130814T091958Z
UID:ATEvent-879d2cc5c9ef4a8bad5c4f7cecd1ff9d
LAST-MODIFIED:20130814T091958Z
SUMMARY:CMP-EPS
DTSTART:20131003T070000Z
DTEND:20131003T083000Z
LOCATION:Lecture Room D
CONTACT:N. Binggeli
URL:https://diploma-clear.ictp.it/courses/weekly-schedule/lecture-room-d/lecture.2013-08-14.9987360538
CLASS:PUBLIC
END:VEVENT
BEGIN:VEVENT
DTSTAMP:20260421T233815Z
CREATED:20130814T090955Z
UID:ATEvent-3f79a58e492248a180ed943a82f54588
LAST-MODIFIED:20130814T090955Z
SUMMARY:CMP-AQM
DTSTART:20131001T120000Z
DTEND:20131001T133000Z
LOCATION:Lecture Room D
CONTACT:G. Santoro
URL:https://diploma-clear.ictp.it/courses/weekly-schedule/lecture-room-d/lecture.2013-08-14.3954884726
CLASS:PUBLIC
END:VEVENT
BEGIN:VEVENT
DTSTAMP:20260421T233815Z
CREATED:20130814T090955Z
UID:ATEvent-f5e76156c5574078aec04c7730b27cd5
LAST-MODIFIED:20130814T090955Z
SUMMARY:CMP-AQM
DTSTART:20131002T120000Z
DTEND:20131002T133000Z
LOCATION:Lecture Room D
CONTACT:G. Santoro
URL:https://diploma-clear.ictp.it/courses/weekly-schedule/lecture-room-d/lecture.2013-08-14.3956702295
CLASS:PUBLIC
END:VEVENT
BEGIN:VEVENT
DTSTAMP:20260421T233815Z
CREATED:20130814T090955Z
UID:ATEvent-d4bd0ca62d314300adead54be4ccf3d8
LAST-MODIFIED:20130814T090956Z
SUMMARY:CMP-AQM
DTSTART:20131003T120000Z
DTEND:20131003T133000Z
LOCATION:Lecture Room D
CONTACT:G. Santoro
URL:https://diploma-clear.ictp.it/courses/weekly-schedule/lecture-room-d/lecture.2013-08-14.3958331215
CLASS:PUBLIC
END:VEVENT
BEGIN:VEVENT
DTSTAMP:20260421T233815Z
CREATED:20130814T094501Z
UID:ATEvent-a47139b936bc445bb01b1eb7fec850e5
LAST-MODIFIED:20130814T094501Z
SUMMARY:CMP-ST I
DTSTART:20131004T120000Z
DTEND:20131004T133000Z
LOCATION:Lecture Room D
CONTACT:N. Seriani\, Y. Crespo
URL:https://diploma-clear.ictp.it/courses/weekly-schedule/lecture-room-d/lecture.2013-08-14.5011979117
CLASS:PUBLIC
END:VEVENT
BEGIN:VEVENT
DTSTAMP:20260421T233815Z
CREATED:20130926T145919Z
UID:ATEvent-16d434b343cf44ceadbb8ce5e5ed17b2
LAST-MODIFIED:20130926T145954Z
SUMMARY:welcome ceremony MLH
DTSTART:20131004T140000Z
DTEND:20131004T153000Z
LOCATION:Lecture Room D
URL:https://diploma-clear.ictp.it/courses/weekly-schedule/lecture-room-d/welcome-ceremony-mlh
CLASS:PUBLIC
END:VEVENT
END:VCALENDAR
