BEGIN:VCALENDAR
PRODID:-//ICTPDiploma//ATRoom//EN
VERSION:2.0
METHOD:PUBLISH
BEGIN:VEVENT
DTSTAMP:20260423T003615Z
CREATED:20130920T085037Z
UID:ATEvent-922830936a7148c5b79b44750ded791a
LAST-MODIFIED:20130920T085107Z
SUMMARY:CMP-MT
DTSTART:20130924T070000Z
DTEND:20130924T083000Z
LOCATION:Lecture Room D
CONTACT:S. Scandolo
URL:https://diploma-clear.ictp.it/courses/weekly-schedule/lecture-room-d/cmp-mt-36
CLASS:PUBLIC
END:VEVENT
BEGIN:VEVENT
DTSTAMP:20260423T003615Z
CREATED:20130814T091957Z
UID:ATEvent-082563c6277a4bd7b090494d2e02ded6
LAST-MODIFIED:20130814T091958Z
SUMMARY:CMP-EPS
DTSTART:20130926T070000Z
DTEND:20130926T083000Z
LOCATION:Lecture Room D
CONTACT:N. Binggeli
URL:https://diploma-clear.ictp.it/courses/weekly-schedule/lecture-room-d/lecture.2013-08-14.9979449224
CLASS:PUBLIC
END:VEVENT
BEGIN:VEVENT
DTSTAMP:20260423T003615Z
CREATED:20130912T125014Z
UID:ATEvent-676a82e678e4473b8c08c0450e9e6ca3
LAST-MODIFIED:20130912T125200Z
SUMMARY:CMP-EPS
DTSTART:20130927T070000Z
DTEND:20130927T083000Z
LOCATION:Lecture Room D
CONTACT:N. Binggeli
URL:https://diploma-clear.ictp.it/courses/weekly-schedule/lecture-room-d/cmp-eps-14
CLASS:PUBLIC
END:VEVENT
END:VCALENDAR
