BEGIN:VCALENDAR
PRODID:-//ICTPDiploma//ATRoom//EN
VERSION:2.0
METHOD:PUBLISH
BEGIN:VEVENT
DTSTAMP:20260421T061259Z
CREATED:20081014T130236Z
UID:ATEvent-18bdc4d73b021d2f8d65aadc1f8ae688
LAST-MODIFIED:20081014T130236Z
SUMMARY:MTH-LA
DTSTART:20080908T090000Z
DTEND:20080908T103000Z
LOCATION:Lecture Room D
CONTACT:Ramadas Ramakrishnan
URL:https://diploma-clear.ictp.it/courses/weekly-schedule/lecture-room-d/lecture.2008-10-14.3561289028
CLASS:PUBLIC
END:VEVENT
BEGIN:VEVENT
DTSTAMP:20260421T061259Z
CREATED:20081014T130236Z
UID:ATEvent-ea60184855bda4a576b47c953bfba184
LAST-MODIFIED:20081014T130237Z
SUMMARY:MTH-LA
DTSTART:20080909T090000Z
DTEND:20080909T103000Z
LOCATION:Lecture Room D
CONTACT:Ramadas Ramakrishnan
URL:https://diploma-clear.ictp.it/courses/weekly-schedule/lecture-room-d/lecture.2008-10-14.3567793689
CLASS:PUBLIC
END:VEVENT
BEGIN:VEVENT
DTSTAMP:20260421T061259Z
CREATED:20081014T130237Z
UID:ATEvent-96f3f63afbeaa23f67f462856dd357ae
LAST-MODIFIED:20081014T130237Z
SUMMARY:MTH-LA
DTSTART:20080910T090000Z
DTEND:20080910T103000Z
LOCATION:Lecture Room D
CONTACT:Ramadas Ramakrishnan
URL:https://diploma-clear.ictp.it/courses/weekly-schedule/lecture-room-d/lecture.2008-10-14.3574426847
CLASS:PUBLIC
END:VEVENT
BEGIN:VEVENT
DTSTAMP:20260421T061259Z
CREATED:20081014T130238Z
UID:ATEvent-77ebb6b3076511c19e45f4da35cead98
LAST-MODIFIED:20081014T130238Z
SUMMARY:MTH-LA
DTSTART:20080911T090000Z
DTEND:20080911T103000Z
LOCATION:Lecture Room D
CONTACT:Ramadas Ramakrishnan
URL:https://diploma-clear.ictp.it/courses/weekly-schedule/lecture-room-d/lecture.2008-10-14.3580745059
CLASS:PUBLIC
END:VEVENT
BEGIN:VEVENT
DTSTAMP:20260421T061259Z
CREATED:20081014T130238Z
UID:ATEvent-d9b7735a1b137a463c27acb2edf010ef
LAST-MODIFIED:20081014T130239Z
SUMMARY:MTH-LA
DTSTART:20080912T090000Z
DTEND:20080912T103000Z
LOCATION:Lecture Room D
CONTACT:Ramadas Ramakrishnan
URL:https://diploma-clear.ictp.it/courses/weekly-schedule/lecture-room-d/lecture.2008-10-14.3586545323
CLASS:PUBLIC
END:VEVENT
BEGIN:VEVENT
DTSTAMP:20260421T061259Z
CREATED:20081014T130319Z
UID:ATEvent-60bfc5c190fa6d4941170edd9cf903b4
LAST-MODIFIED:20081014T130320Z
SUMMARY:CMP-MT
DTSTART:20080908T120000Z
DTEND:20080908T133000Z
LOCATION:Lecture Room D
CONTACT:Fabio Franchini
URL:https://diploma-clear.ictp.it/courses/weekly-schedule/lecture-room-d/lecture.2008-10-14.3998176539
CLASS:PUBLIC
END:VEVENT
BEGIN:VEVENT
DTSTAMP:20260421T061259Z
CREATED:20081008T124210Z
UID:ATEvent-cb65839971f2df4628c06e29ad829ed1
LAST-MODIFIED:20081014T130714Z
SUMMARY:MTH-FMA
DTSTART:20080909T120000Z
DTEND:20080909T133000Z
LOCATION:Lecture Room D
CONTACT:Charles Chidume
URL:https://diploma-clear.ictp.it/courses/weekly-schedule/lecture-room-d/mth-fma-3
CLASS:PUBLIC
END:VEVENT
BEGIN:VEVENT
DTSTAMP:20260421T061259Z
CREATED:20081014T130320Z
UID:ATEvent-183f8014581c58ef43decd45b06d282f
LAST-MODIFIED:20081014T130320Z
SUMMARY:CMP-MT
DTSTART:20080910T120000Z
DTEND:20080910T133000Z
LOCATION:Lecture Room D
CONTACT:Fabio Franchini
URL:https://diploma-clear.ictp.it/courses/weekly-schedule/lecture-room-d/lecture.2008-10-14.4003516574
CLASS:PUBLIC
END:VEVENT
BEGIN:VEVENT
DTSTAMP:20260421T061259Z
CREATED:20081014T130320Z
UID:ATEvent-830083e1eb7446bf4b4c21e7967609d3
LAST-MODIFIED:20081014T130321Z
SUMMARY:CMP-MT
DTSTART:20080912T120000Z
DTEND:20080912T133000Z
LOCATION:Lecture Room D
CONTACT:Fabio Franchini
URL:https://diploma-clear.ictp.it/courses/weekly-schedule/lecture-room-d/lecture.2008-10-14.4008835101
CLASS:PUBLIC
END:VEVENT
BEGIN:VEVENT
DTSTAMP:20260421T061259Z
CREATED:20081008T124008Z
UID:ATEvent-a80729669bc36eec482a9679618f9e94
LAST-MODIFIED:20081014T130649Z
SUMMARY:MTH-FMA
DTSTART:20080908T140000Z
DTEND:20080908T153000Z
LOCATION:Lecture Room D
CONTACT:Charles Chidume
URL:https://diploma-clear.ictp.it/courses/weekly-schedule/lecture-room-d/mth-fma
CLASS:PUBLIC
END:VEVENT
BEGIN:VEVENT
DTSTAMP:20260421T061259Z
CREATED:20081008T124253Z
UID:ATEvent-79d09faa6c3c875031b989d9e1c1e512
LAST-MODIFIED:20081014T130747Z
SUMMARY:MTH-FMA
DTSTART:20080909T140000Z
DTEND:20080909T153000Z
LOCATION:Lecture Room D
CONTACT:Charles Chidume
URL:https://diploma-clear.ictp.it/courses/weekly-schedule/lecture-room-d/mth-fma-4
CLASS:PUBLIC
END:VEVENT
BEGIN:VEVENT
DTSTAMP:20260421T061259Z
CREATED:20081008T124337Z
UID:ATEvent-52aeca374a769ef6df53f87f54eef362
LAST-MODIFIED:20081014T130824Z
SUMMARY:MTH-FMA
DTSTART:20080910T140000Z
DTEND:20080910T153000Z
LOCATION:Lecture Room D
CONTACT:Charles Chidume
URL:https://diploma-clear.ictp.it/courses/weekly-schedule/lecture-room-d/mth-fma-5
CLASS:PUBLIC
END:VEVENT
BEGIN:VEVENT
DTSTAMP:20260421T061259Z
CREATED:20081008T124530Z
UID:ATEvent-a587c5039f7632b582bd1aa91a4a2d37
LAST-MODIFIED:20081014T131237Z
SUMMARY:MTH-FMA
DTSTART:20080911T140000Z
DTEND:20080911T153000Z
LOCATION:Lecture Room D
CONTACT:Charles Chidume
URL:https://diploma-clear.ictp.it/courses/weekly-schedule/lecture-room-d/mth-fma-6
CLASS:PUBLIC
END:VEVENT
BEGIN:VEVENT
DTSTAMP:20260421T061259Z
CREATED:20081008T124705Z
UID:ATEvent-3144360933a4501e3ca027dd616a9dcb
LAST-MODIFIED:20081014T131313Z
SUMMARY:MTH-FMA
DTSTART:20080912T140000Z
DTEND:20080912T153000Z
LOCATION:Lecture Room D
CONTACT:Charles Chidume
URL:https://diploma-clear.ictp.it/courses/weekly-schedule/lecture-room-d/mth-fma-7
CLASS:PUBLIC
END:VEVENT
BEGIN:VEVENT
DTSTAMP:20260421T061259Z
CREATED:20081008T123618Z
UID:ATEvent-97e701c7d8dffe864379353658856bff
LAST-MODIFIED:20081008T123618Z
SUMMARY:
DTSTART:20080908T153000Z
DTEND:20080908T170000Z
LOCATION:Lecture Room D
URL:https://diploma-clear.ictp.it/courses/weekly-schedule/lecture-room-d/lecture.2008-10-08.3780844926
CLASS:PUBLIC
END:VEVENT
BEGIN:VEVENT
DTSTAMP:20260421T061259Z
CREATED:20081008T123618Z
UID:ATEvent-33b59ca2e6b38621cc973b7d931a91a5
LAST-MODIFIED:20081008T123618Z
SUMMARY:
DTSTART:20080909T153000Z
DTEND:20080909T170000Z
LOCATION:Lecture Room D
URL:https://diploma-clear.ictp.it/courses/weekly-schedule/lecture-room-d/lecture.2008-10-08.3785469010
CLASS:PUBLIC
END:VEVENT
BEGIN:VEVENT
DTSTAMP:20260421T061259Z
CREATED:20081008T123619Z
UID:ATEvent-1d0e1b842c97ce774b82e3ac8c386b1b
LAST-MODIFIED:20081008T123619Z
SUMMARY:
DTSTART:20080910T153000Z
DTEND:20080910T170000Z
LOCATION:Lecture Room D
URL:https://diploma-clear.ictp.it/courses/weekly-schedule/lecture-room-d/lecture.2008-10-08.3789738123
CLASS:PUBLIC
END:VEVENT
BEGIN:VEVENT
DTSTAMP:20260421T061259Z
CREATED:20081008T123619Z
UID:ATEvent-ddcdc8675bb0d83140ed140d6ca2c8f0
LAST-MODIFIED:20081008T123619Z
SUMMARY:
DTSTART:20080911T153000Z
DTEND:20080911T170000Z
LOCATION:Lecture Room D
URL:https://diploma-clear.ictp.it/courses/weekly-schedule/lecture-room-d/lecture.2008-10-08.3793998406
CLASS:PUBLIC
END:VEVENT
BEGIN:VEVENT
DTSTAMP:20260421T061259Z
CREATED:20081008T123619Z
UID:ATEvent-fb3b01256c55c26c6a65cace4f5e65cb
LAST-MODIFIED:20081008T123620Z
SUMMARY:
DTSTART:20080912T153000Z
DTEND:20080912T170000Z
LOCATION:Lecture Room D
URL:https://diploma-clear.ictp.it/courses/weekly-schedule/lecture-room-d/lecture.2008-10-08.3798279337
CLASS:PUBLIC
END:VEVENT
END:VCALENDAR
