BEGIN:VCALENDAR
PRODID:-//ICTPDiploma//ATRoom//EN
VERSION:2.0
METHOD:PUBLISH
BEGIN:VEVENT
DTSTAMP:20260421T233834Z
CREATED:20100825T131949Z
UID:ATEvent-342fcf894245f75287db25a8cbd8bf4c
LAST-MODIFIED:20100825T132012Z
SUMMARY:CMP meeting
DTSTART:20100902T120000Z
DTEND:20100902T133000Z
LOCATION:Lecture Room D
CONTACT:S. Scandolo
URL:https://diploma-clear.ictp.it/courses/weekly-schedule/lecture-room-d/cmp-meeting-2
CLASS:PUBLIC
END:VEVENT
BEGIN:VEVENT
DTSTAMP:20260421T233834Z
CREATED:20100825T132504Z
UID:ATEvent-8033b6ff3ed9e24534d2bdb9944ddedd
LAST-MODIFIED:20100825T132529Z
SUMMARY:
DTSTART:20100903T120000Z
DTEND:20100903T170000Z
LOCATION:Lecture Room D
URL:https://diploma-clear.ictp.it/courses/weekly-schedule/lecture-room-d/-37
CLASS:PUBLIC
END:VEVENT
BEGIN:VEVENT
DTSTAMP:20260421T233834Z
CREATED:20100825T131851Z
UID:ATEvent-e47caaba6d372ae319f63de5d3d2c3d5
LAST-MODIFIED:20100830T100315Z
SUMMARY:MTH meeting
DTSTART:20100901T140000Z
DTEND:20100901T153000Z
LOCATION:Lecture Room D
CONTACT:L. Göttsche
URL:https://diploma-clear.ictp.it/courses/weekly-schedule/lecture-room-d/mth-meeting-1
CLASS:PUBLIC
END:VEVENT
BEGIN:VEVENT
DTSTAMP:20260421T233834Z
CREATED:20100825T132504Z
UID:ATEvent-8033b6ff3ed9e24534d2bdb9944ddedd
LAST-MODIFIED:20100825T132529Z
SUMMARY:
DTSTART:20100903T120000Z
DTEND:20100903T170000Z
LOCATION:Lecture Room D
URL:https://diploma-clear.ictp.it/courses/weekly-schedule/lecture-room-d/-37
CLASS:PUBLIC
END:VEVENT
BEGIN:VEVENT
DTSTAMP:20260421T233834Z
CREATED:20100825T132545Z
UID:ATEvent-2525b36dc08825aab418b3c60b9dc3da
LAST-MODIFIED:20100825T132616Z
SUMMARY:
DTSTART:20100830T153000Z
DTEND:20100830T170000Z
LOCATION:Lecture Room D
URL:https://diploma-clear.ictp.it/courses/weekly-schedule/lecture-room-d/-38
CLASS:PUBLIC
END:VEVENT
BEGIN:VEVENT
DTSTAMP:20260421T233834Z
CREATED:20100825T132714Z
UID:ATEvent-8b86f508a86f70352ea36ddf8bcb1850
LAST-MODIFIED:20100825T132738Z
SUMMARY:
DTSTART:20100831T153000Z
DTEND:20100831T170000Z
LOCATION:Lecture Room D
URL:https://diploma-clear.ictp.it/courses/weekly-schedule/lecture-room-d/-39
CLASS:PUBLIC
END:VEVENT
BEGIN:VEVENT
DTSTAMP:20260421T233834Z
CREATED:20100825T132749Z
UID:ATEvent-5c9a4e8344d91972537a122ee72fef4a
LAST-MODIFIED:20100825T132811Z
SUMMARY:
DTSTART:20100901T153000Z
DTEND:20100901T170000Z
LOCATION:Lecture Room D
URL:https://diploma-clear.ictp.it/courses/weekly-schedule/lecture-room-d/-40
CLASS:PUBLIC
END:VEVENT
BEGIN:VEVENT
DTSTAMP:20260421T233834Z
CREATED:20100825T132822Z
UID:ATEvent-57564d95e855ed9f7e8e10a83e4a7b7c
LAST-MODIFIED:20100825T133108Z
SUMMARY:
DTSTART:20100902T153000Z
DTEND:20100902T170000Z
LOCATION:Lecture Room D
URL:https://diploma-clear.ictp.it/courses/weekly-schedule/lecture-room-d/-41
CLASS:PUBLIC
END:VEVENT
BEGIN:VEVENT
DTSTAMP:20260421T233834Z
CREATED:20100825T132504Z
UID:ATEvent-8033b6ff3ed9e24534d2bdb9944ddedd
LAST-MODIFIED:20100825T132529Z
SUMMARY:
DTSTART:20100903T120000Z
DTEND:20100903T170000Z
LOCATION:Lecture Room D
URL:https://diploma-clear.ictp.it/courses/weekly-schedule/lecture-room-d/-37
CLASS:PUBLIC
END:VEVENT
END:VCALENDAR
