BEGIN:VCALENDAR
PRODID:-//ICTPDiploma//ATRoom//EN
VERSION:2.0
METHOD:PUBLISH
BEGIN:VEVENT
DTSTAMP:20260421T055241Z
CREATED:20220615T093156Z
UID:ATEvent-9b433952e0ef4ebcb404ef161eecb525
LAST-MODIFIED:20220615T093224Z
SUMMARY:CMP
DTSTART:20220623T070000Z
DTEND:20220623T083000Z
LOCATION:Lecture Room D
URL:https://diploma-clear.ictp.it/courses/weekly-schedule/lecture-room-d/cmp-2
CLASS:PUBLIC
END:VEVENT
BEGIN:VEVENT
DTSTAMP:20260421T055241Z
CREATED:20220615T093233Z
UID:ATEvent-144c05179844459197df28bff35727b1
LAST-MODIFIED:20220615T093245Z
SUMMARY:presentations
DTSTART:20220623T090000Z
DTEND:20220623T103000Z
LOCATION:Lecture Room D
URL:https://diploma-clear.ictp.it/courses/weekly-schedule/lecture-room-d/presentations
CLASS:PUBLIC
END:VEVENT
BEGIN:VEVENT
DTSTAMP:20260421T055241Z
CREATED:20220615T093249Z
UID:ATEvent-a33cdf7c06aa429e830b895869abc393
LAST-MODIFIED:20220615T093303Z
SUMMARY:
DTSTART:20220623T120000Z
DTEND:20220623T153000Z
LOCATION:Lecture Room D
URL:https://diploma-clear.ictp.it/courses/weekly-schedule/lecture-room-d/lecture.2022-06-15.5696585403
CLASS:PUBLIC
END:VEVENT
BEGIN:VEVENT
DTSTAMP:20260421T055241Z
CREATED:20220615T093249Z
UID:ATEvent-a33cdf7c06aa429e830b895869abc393
LAST-MODIFIED:20220615T093303Z
SUMMARY:
DTSTART:20220623T120000Z
DTEND:20220623T153000Z
LOCATION:Lecture Room D
URL:https://diploma-clear.ictp.it/courses/weekly-schedule/lecture-room-d/lecture.2022-06-15.5696585403
CLASS:PUBLIC
END:VEVENT
END:VCALENDAR
