BEGIN:VCALENDAR
PRODID:-//ICTPDiploma//ATRoom//EN
VERSION:2.0
METHOD:PUBLISH
BEGIN:VEVENT
DTSTAMP:20260420T060257Z
CREATED:20110119T110017Z
UID:ATEvent-df29bab25c522df573943632d48fbd38
LAST-MODIFIED:20110119T110043Z
SUMMARY:ictp
DTSTART:20110502T070000Z
DTEND:20110502T083000Z
LOCATION:Lecture Room D
URL:https://diploma-clear.ictp.it/courses/weekly-schedule/lecture-room-d/ictp-6
CLASS:PUBLIC
END:VEVENT
BEGIN:VEVENT
DTSTAMP:20260420T060257Z
CREATED:20110216T133759Z
UID:ATEvent-f87b3852b790ebf8ee90746a45fe9176
LAST-MODIFIED:20110216T133834Z
SUMMARY:MTH-PDE
DTSTART:20110505T070000Z
DTEND:20110505T083000Z
LOCATION:Lecture Room D
CONTACT:G. Bellettini
URL:https://diploma-clear.ictp.it/courses/weekly-schedule/lecture-room-d/mth-pde-59
CLASS:PUBLIC
END:VEVENT
BEGIN:VEVENT
DTSTAMP:20260420T060257Z
CREATED:20110216T134022Z
UID:ATEvent-071416fc88d3d84fac00600e02d8fdaa
LAST-MODIFIED:20110216T134055Z
SUMMARY:MTH-PDE
DTSTART:20110506T070000Z
DTEND:20110506T083000Z
LOCATION:Lecture Room D
CONTACT:G. Bellettini
URL:https://diploma-clear.ictp.it/courses/weekly-schedule/lecture-room-d/mth-pde-60
CLASS:PUBLIC
END:VEVENT
BEGIN:VEVENT
DTSTAMP:20260420T060257Z
CREATED:20110119T110051Z
UID:ATEvent-51b13984798356d459ce140369fdf4c7
LAST-MODIFIED:20110119T110119Z
SUMMARY:official holiday
DTSTART:20110502T090000Z
DTEND:20110502T103000Z
LOCATION:Lecture Room D
URL:https://diploma-clear.ictp.it/courses/weekly-schedule/lecture-room-d/official-holiday-2
CLASS:PUBLIC
END:VEVENT
BEGIN:VEVENT
DTSTAMP:20260420T060257Z
CREATED:20110216T133304Z
UID:ATEvent-181bbf3fda0176da0b0a54f905c80441
LAST-MODIFIED:20110216T133340Z
SUMMARY:MTH-AG
DTSTART:20110503T090000Z
DTEND:20110503T103000Z
LOCATION:Lecture Room D
CONTACT:L. Göttsche
URL:https://diploma-clear.ictp.it/courses/weekly-schedule/lecture-room-d/mth-ag-59
CLASS:PUBLIC
END:VEVENT
BEGIN:VEVENT
DTSTAMP:20260420T060257Z
CREATED:20110216T133615Z
UID:ATEvent-60a846337a1a9f70f7e0f4f3bc40ff41
LAST-MODIFIED:20110216T133644Z
SUMMARY:MTH-AG
DTSTART:20110504T090000Z
DTEND:20110504T103000Z
LOCATION:Lecture Room D
CONTACT:L. Göttsche
URL:https://diploma-clear.ictp.it/courses/weekly-schedule/lecture-room-d/mth-ag-60
CLASS:PUBLIC
END:VEVENT
BEGIN:VEVENT
DTSTAMP:20260420T060257Z
CREATED:20110427T135700Z
UID:ATEvent-9fb8560b5d0aa0dd30bbaab0676d5647
LAST-MODIFIED:20110427T135727Z
SUMMARY:MTH-DG
DTSTART:20110505T090000Z
DTEND:20110505T103000Z
LOCATION:Lecture Room D
CONTACT:C. Arezzo
URL:https://diploma-clear.ictp.it/courses/weekly-schedule/lecture-room-d/mth-dg-56
CLASS:PUBLIC
END:VEVENT
BEGIN:VEVENT
DTSTAMP:20260420T060257Z
CREATED:20110328T124003Z
UID:ATEvent-ae96be4c8fc519c32af0dca197f92314
LAST-MODIFIED:20110328T124033Z
SUMMARY:MTH-AG
DTSTART:20110506T090000Z
DTEND:20110506T103000Z
LOCATION:Lecture Room D
CONTACT:L. Göttsche
URL:https://diploma-clear.ictp.it/courses/weekly-schedule/lecture-room-d/mth-ag-49
CLASS:PUBLIC
END:VEVENT
BEGIN:VEVENT
DTSTAMP:20260420T060257Z
CREATED:20110119T110129Z
UID:ATEvent-a0302c6fd84f69851664531e9da08bc9
LAST-MODIFIED:20110216T132715Z
SUMMARY:in lieu of
DTSTART:20110502T120000Z
DTEND:20110502T133000Z
LOCATION:Lecture Room D
URL:https://diploma-clear.ictp.it/courses/weekly-schedule/lecture-room-d/in-lieu-of-1
CLASS:PUBLIC
END:VEVENT
BEGIN:VEVENT
DTSTAMP:20260420T060257Z
CREATED:20110216T133352Z
UID:ATEvent-7aa8d3bb6e1c0f9b155f3ca40446113f
LAST-MODIFIED:20110412T090438Z
SUMMARY:MTH-ODE II
DTSTART:20110503T120000Z
DTEND:20110503T133000Z
LOCATION:Lecture Room D
CONTACT:S. Luzzatto
URL:https://diploma-clear.ictp.it/courses/weekly-schedule/lecture-room-d/mth-erg-6
CLASS:PUBLIC
END:VEVENT
BEGIN:VEVENT
DTSTAMP:20260420T060257Z
CREATED:20110216T133713Z
UID:ATEvent-054c63012cd1e8d3577c498fa15061fa
LAST-MODIFIED:20110216T133747Z
SUMMARY:MTH-PDE
DTSTART:20110504T120000Z
DTEND:20110504T133000Z
LOCATION:Lecture Room D
CONTACT:G. Bellettini
URL:https://diploma-clear.ictp.it/courses/weekly-schedule/lecture-room-d/mth-pde-58
CLASS:PUBLIC
END:VEVENT
BEGIN:VEVENT
DTSTAMP:20260420T060257Z
CREATED:20110216T133847Z
UID:ATEvent-d2f24ec4d83830e4d02dc301bf7a56d9
LAST-MODIFIED:20110412T090457Z
SUMMARY:MTH-ODE II
DTSTART:20110505T120000Z
DTEND:20110505T133000Z
LOCATION:Lecture Room D
CONTACT:S. Luzzatto
URL:https://diploma-clear.ictp.it/courses/weekly-schedule/lecture-room-d/mth-erg-7
CLASS:PUBLIC
END:VEVENT
BEGIN:VEVENT
DTSTAMP:20260420T060257Z
CREATED:20110216T134115Z
UID:ATEvent-5f7e7693e934e7db14e61fa02cd9314d
LAST-MODIFIED:20110216T134229Z
SUMMARY:CMP Mtg.
DTSTART:20110506T120000Z
DTEND:20110506T133000Z
LOCATION:Lecture Room D
CONTACT:N. Seriani\, N. Stojc
URL:https://diploma-clear.ictp.it/courses/weekly-schedule/lecture-room-d/cmp-mtg-63
CLASS:PUBLIC
END:VEVENT
BEGIN:VEVENT
DTSTAMP:20260420T060257Z
CREATED:20110119T110158Z
UID:ATEvent-4112b423b246feda670141a51d1a13ac
LAST-MODIFIED:20110119T110222Z
SUMMARY:Labour Day
DTSTART:20110502T140000Z
DTEND:20110502T153000Z
LOCATION:Lecture Room D
URL:https://diploma-clear.ictp.it/courses/weekly-schedule/lecture-room-d/labour-day-1
CLASS:PUBLIC
END:VEVENT
BEGIN:VEVENT
DTSTAMP:20260420T060257Z
CREATED:20110216T133518Z
UID:ATEvent-b1f90665453aed5831c3ddccdeb18df5
LAST-MODIFIED:20110216T133548Z
SUMMARY:CMP-BIO
DTSTART:20110503T140000Z
DTEND:20110503T153000Z
LOCATION:Lecture Room D
CONTACT:A. Laio
URL:https://diploma-clear.ictp.it/courses/weekly-schedule/lecture-room-d/cmp-bio-19
CLASS:PUBLIC
END:VEVENT
BEGIN:VEVENT
DTSTAMP:20260420T060257Z
CREATED:20110427T135615Z
UID:ATEvent-edc39587f57ef7f4c53af83d5e070f32
LAST-MODIFIED:20110427T135645Z
SUMMARY:MTH-DG
DTSTART:20110504T140000Z
DTEND:20110504T153000Z
LOCATION:Lecture Room D
CONTACT:C. Arezzo
URL:https://diploma-clear.ictp.it/courses/weekly-schedule/lecture-room-d/mth-dg-55
CLASS:PUBLIC
END:VEVENT
BEGIN:VEVENT
DTSTAMP:20260420T060257Z
CREATED:20110216T133926Z
UID:ATEvent-1c46d197de1ff1c6286c9fb8cd3208ad
LAST-MODIFIED:20110216T134009Z
SUMMARY:CMP-BIO
DTSTART:20110505T140000Z
DTEND:20110505T153000Z
LOCATION:Lecture Room D
CONTACT:A. Laio
URL:https://diploma-clear.ictp.it/courses/weekly-schedule/lecture-room-d/cmp-bio-20
CLASS:PUBLIC
END:VEVENT
END:VCALENDAR
