BEGIN:VCALENDAR
PRODID:-//ICTPDiploma//ATRoom//EN
VERSION:2.0
METHOD:PUBLISH
BEGIN:VEVENT
DTSTAMP:20260420T060304Z
CREATED:20110215T161139Z
UID:ATEvent-b4d7f688515d4f52a5962104be64e4b9
LAST-MODIFIED:20110215T161202Z
SUMMARY:ICTP
DTSTART:20110425T070000Z
DTEND:20110425T083000Z
LOCATION:Lecture Room D
URL:https://diploma-clear.ictp.it/courses/weekly-schedule/lecture-room-d/ictp-9
CLASS:PUBLIC
END:VEVENT
BEGIN:VEVENT
DTSTAMP:20260420T060304Z
CREATED:20110216T094532Z
UID:ATEvent-2eb922ec13bfc40a33f8b45673880fd1
LAST-MODIFIED:20110216T094559Z
SUMMARY:CMP-SUP
DTSTART:20110426T070000Z
DTEND:20110426T083000Z
LOCATION:Lecture Room D
CONTACT:O. Yevtushenko
URL:https://diploma-clear.ictp.it/courses/weekly-schedule/lecture-room-d/cmp-sup-10
CLASS:PUBLIC
END:VEVENT
BEGIN:VEVENT
DTSTAMP:20260420T060304Z
CREATED:20110216T094656Z
UID:ATEvent-4de267714802e96966f35ba9dc89fb87
LAST-MODIFIED:20110216T094843Z
SUMMARY:CMP-SUP
DTSTART:20110427T070000Z
DTEND:20110427T083000Z
LOCATION:Lecture Room D
CONTACT:O. Yevtushenko
URL:https://diploma-clear.ictp.it/courses/weekly-schedule/lecture-room-d/cmp-sup-11
CLASS:PUBLIC
END:VEVENT
BEGIN:VEVENT
DTSTAMP:20260420T060304Z
CREATED:20110216T095009Z
UID:ATEvent-18562af903abf65df4376e01362b87be
LAST-MODIFIED:20110216T095050Z
SUMMARY:MTH-PDE
DTSTART:20110428T070000Z
DTEND:20110428T083000Z
LOCATION:Lecture Room D
CONTACT:G. Bellettini
URL:https://diploma-clear.ictp.it/courses/weekly-schedule/lecture-room-d/mth-pde-56
CLASS:PUBLIC
END:VEVENT
BEGIN:VEVENT
DTSTAMP:20260420T060304Z
CREATED:20110216T095105Z
UID:ATEvent-bf232197697bd66f6b8314d9a204ae13
LAST-MODIFIED:20110216T095131Z
SUMMARY:MTH-PDE
DTSTART:20110429T070000Z
DTEND:20110429T083000Z
LOCATION:Lecture Room D
CONTACT:G. Bellettini
URL:https://diploma-clear.ictp.it/courses/weekly-schedule/lecture-room-d/mth-pde-57
CLASS:PUBLIC
END:VEVENT
BEGIN:VEVENT
DTSTAMP:20260420T060304Z
CREATED:20110216T095319Z
UID:ATEvent-c78dc810dcfa7b9e35f2674d11550dd2
LAST-MODIFIED:20110216T095354Z
SUMMARY:CMP-SUP
DTSTART:20110430T070000Z
DTEND:20110430T083000Z
LOCATION:Lecture Room D
CONTACT:O. Yevtushenko
URL:https://diploma-clear.ictp.it/courses/weekly-schedule/lecture-room-d/cmp-sup-12
CLASS:PUBLIC
END:VEVENT
BEGIN:VEVENT
DTSTAMP:20260420T060304Z
CREATED:20110215T161208Z
UID:ATEvent-3c391b8ec4374cac48bdf92148550363
LAST-MODIFIED:20110215T161232Z
SUMMARY:official holiday
DTSTART:20110425T090000Z
DTEND:20110425T103000Z
LOCATION:Lecture Room D
URL:https://diploma-clear.ictp.it/courses/weekly-schedule/lecture-room-d/official-holiday-4
CLASS:PUBLIC
END:VEVENT
BEGIN:VEVENT
DTSTAMP:20260420T060304Z
CREATED:20110216T094853Z
UID:ATEvent-9ea59e96839a648fb9b2a4b5df398e75
LAST-MODIFIED:20110216T094915Z
SUMMARY:MTH-AG
DTSTART:20110427T090000Z
DTEND:20110427T103000Z
LOCATION:Lecture Room D
CONTACT:L. Göttsche
URL:https://diploma-clear.ictp.it/courses/weekly-schedule/lecture-room-d/mth-ag-57
CLASS:PUBLIC
END:VEVENT
BEGIN:VEVENT
DTSTAMP:20260420T060304Z
CREATED:20110418T115042Z
UID:ATEvent-8261edcc31a826e818f6ac43cfff211e
LAST-MODIFIED:20110418T115342Z
SUMMARY:MTH-AG
DTSTART:20110428T090000Z
DTEND:20110428T103000Z
LOCATION:Lecture Room D
CONTACT:L. Göttsche
URL:https://diploma-clear.ictp.it/courses/weekly-schedule/lecture-room-d/mth-ag-55
CLASS:PUBLIC
END:VEVENT
BEGIN:VEVENT
DTSTAMP:20260420T060304Z
CREATED:20110216T095149Z
UID:ATEvent-695881bffa0c51c8ecb9e18a5c71de07
LAST-MODIFIED:20110216T095212Z
SUMMARY:MTH-AG
DTSTART:20110429T090000Z
DTEND:20110429T103000Z
LOCATION:Lecture Room D
CONTACT:L. Göttsche
URL:https://diploma-clear.ictp.it/courses/weekly-schedule/lecture-room-d/mth-ag-58
CLASS:PUBLIC
END:VEVENT
BEGIN:VEVENT
DTSTAMP:20260420T060304Z
CREATED:20110216T095409Z
UID:ATEvent-3881a16622dfe0c11184833162fcd60a
LAST-MODIFIED:20110216T095444Z
SUMMARY:EXAM
DTSTART:20110430T090000Z
DTEND:20110430T103000Z
LOCATION:Lecture Room D
CONTACT:N. Seriani\, N. Stojc
URL:https://diploma-clear.ictp.it/courses/weekly-schedule/lecture-room-d/exam-36
CLASS:PUBLIC
END:VEVENT
BEGIN:VEVENT
DTSTAMP:20260420T060304Z
CREATED:20110215T161242Z
UID:ATEvent-3dc0744ef2f9333b059eb282b6eb1897
LAST-MODIFIED:20110215T161311Z
SUMMARY:EASTER MONDAY
DTSTART:20110425T120000Z
DTEND:20110425T133000Z
LOCATION:Lecture Room D
URL:https://diploma-clear.ictp.it/courses/weekly-schedule/lecture-room-d/easter-monday
CLASS:PUBLIC
END:VEVENT
BEGIN:VEVENT
DTSTAMP:20260420T060304Z
CREATED:20110216T094923Z
UID:ATEvent-34bfb7e00e80968b4106da8430a6c64b
LAST-MODIFIED:20110216T095001Z
SUMMARY:MTH-PDE
DTSTART:20110427T120000Z
DTEND:20110427T133000Z
LOCATION:Lecture Room D
CONTACT:G. Bellettini
URL:https://diploma-clear.ictp.it/courses/weekly-schedule/lecture-room-d/mth-pde-55
CLASS:PUBLIC
END:VEVENT
BEGIN:VEVENT
DTSTAMP:20260420T060304Z
CREATED:20110426T122632Z
UID:ATEvent-64351b3098bee4bd8702e9625f2a60c2
LAST-MODIFIED:20110426T122927Z
SUMMARY:CMP-SUP tut.
DTSTART:20110428T120000Z
DTEND:20110428T133000Z
LOCATION:Lecture Room D
CONTACT:O. Yevtushenko
URL:https://diploma-clear.ictp.it/courses/weekly-schedule/lecture-room-d/cmp-sup-tut
CLASS:PUBLIC
END:VEVENT
BEGIN:VEVENT
DTSTAMP:20260420T060304Z
CREATED:20110216T095222Z
UID:ATEvent-3f5abd29be56d22aba607e1ecd272f3b
LAST-MODIFIED:20110216T095250Z
SUMMARY:CMP Mtg.
DTSTART:20110429T120000Z
DTEND:20110429T133000Z
LOCATION:Lecture Room D
CONTACT:N. Seriani\, N. Stojc
URL:https://diploma-clear.ictp.it/courses/weekly-schedule/lecture-room-d/cmp-mtg-62
CLASS:PUBLIC
END:VEVENT
BEGIN:VEVENT
DTSTAMP:20260420T060304Z
CREATED:20110215T161320Z
UID:ATEvent-5276e29843cfdf332e9d550e596c7802
LAST-MODIFIED:20110215T161343Z
SUMMARY:
DTSTART:20110425T140000Z
DTEND:20110425T170000Z
LOCATION:Lecture Room D
URL:https://diploma-clear.ictp.it/courses/weekly-schedule/lecture-room-d/-56
CLASS:PUBLIC
END:VEVENT
BEGIN:VEVENT
DTSTAMP:20260420T060305Z
CREATED:20110215T161320Z
UID:ATEvent-5276e29843cfdf332e9d550e596c7802
LAST-MODIFIED:20110215T161343Z
SUMMARY:
DTSTART:20110425T140000Z
DTEND:20110425T170000Z
LOCATION:Lecture Room D
URL:https://diploma-clear.ictp.it/courses/weekly-schedule/lecture-room-d/-56
CLASS:PUBLIC
END:VEVENT
END:VCALENDAR
