BEGIN:VCALENDAR
PRODID:-//ICTPDiploma//ATRoom//EN
VERSION:2.0
METHOD:PUBLISH
BEGIN:VEVENT
DTSTAMP:20260420T221325Z
CREATED:20211201T113251Z
UID:ATEvent-925bfca66c404120ace5cd9eedfd573b
LAST-MODIFIED:20211201T113251Z
SUMMARY:MTH-DG
DTSTART:20220321T080000Z
DTEND:20220321T093000Z
LOCATION:Lecture Room D
CONTACT:C. Arezzo
URL:https://diploma-clear.ictp.it/courses/weekly-schedule/lecture-room-d/lecture.2021-12-01.3717289039
CLASS:PUBLIC
END:VEVENT
BEGIN:VEVENT
DTSTAMP:20260420T221325Z
CREATED:20211223T114509Z
UID:ATEvent-12db52a9235440b1a59f1e00148f5526
LAST-MODIFIED:20211223T114534Z
SUMMARY:MTH-PDE
DTSTART:20220322T080000Z
DTEND:20220322T093000Z
LOCATION:Lecture Room D
CONTACT:G. Bellettini
URL:https://diploma-clear.ictp.it/courses/weekly-schedule/lecture-room-d/lecture.2021-12-23.9093394336
CLASS:PUBLIC
END:VEVENT
BEGIN:VEVENT
DTSTAMP:20260420T221325Z
CREATED:20211223T114542Z
UID:ATEvent-8df48d1ad2b84ebea27eea099ae2a130
LAST-MODIFIED:20211223T114602Z
SUMMARY:MTH-PDE
DTSTART:20220323T080000Z
DTEND:20220323T093000Z
LOCATION:Lecture Room D
CONTACT:G. Bellettini
URL:https://diploma-clear.ictp.it/courses/weekly-schedule/lecture-room-d/lecture.2021-12-23.9428807595
CLASS:PUBLIC
END:VEVENT
BEGIN:VEVENT
DTSTAMP:20260420T221325Z
CREATED:20211201T113251Z
UID:ATEvent-bfea3e30428b495ca4b2c4898dae57e3
LAST-MODIFIED:20211201T113252Z
SUMMARY:MTH-DG
DTSTART:20220324T080000Z
DTEND:20220324T093000Z
LOCATION:Lecture Room D
CONTACT:C. Arezzo
URL:https://diploma-clear.ictp.it/courses/weekly-schedule/lecture-room-d/lecture.2021-12-01.3718802350
CLASS:PUBLIC
END:VEVENT
BEGIN:VEVENT
DTSTAMP:20260420T221325Z
CREATED:20211223T085942Z
UID:ATEvent-21795630826f443380c7954845d43f80
LAST-MODIFIED:20211223T090034Z
SUMMARY:MTH-ODS tut.
DTSTART:20220325T080000Z
DTEND:20220325T093000Z
LOCATION:Lecture Room D
CONTACT:D. Veconi
URL:https://diploma-clear.ictp.it/courses/weekly-schedule/lecture-room-d/mth-ods-tut-16
CLASS:PUBLIC
END:VEVENT
BEGIN:VEVENT
DTSTAMP:20260420T221325Z
CREATED:20220110T093930Z
UID:ATEvent-cb89c739ace9461db7c0aa60a689cf62
LAST-MODIFIED:20220310T141510Z
SUMMARY:MTH-RT tut.
DTSTART:20220322T100000Z
DTEND:20220322T113000Z
LOCATION:Lecture Room D
CONTACT:V. Kurylenko
URL:https://diploma-clear.ictp.it/courses/weekly-schedule/lecture-room-d/mth-rt-tut-15
CLASS:PUBLIC
END:VEVENT
BEGIN:VEVENT
DTSTAMP:20260420T221325Z
CREATED:20211223T114610Z
UID:ATEvent-c2ef8d940b92463f9a723127da6dc7a5
LAST-MODIFIED:20211223T114630Z
SUMMARY:MTH-PDE
DTSTART:20220325T100000Z
DTEND:20220325T113000Z
LOCATION:Lecture Room D
CONTACT:G. Bellettini
URL:https://diploma-clear.ictp.it/courses/weekly-schedule/lecture-room-d/lecture.2021-12-23.9705930070
CLASS:PUBLIC
END:VEVENT
BEGIN:VEVENT
DTSTAMP:20260420T221325Z
CREATED:20211201T092543Z
UID:ATEvent-28f3d1cc87a143aa8a04ef4d91403968
LAST-MODIFIED:20211201T092543Z
SUMMARY:MTH-RT
DTSTART:20220321T130000Z
DTEND:20220321T143000Z
LOCATION:Lecture Room D
CONTACT:F. Villegas
URL:https://diploma-clear.ictp.it/courses/weekly-schedule/lecture-room-d/lecture.2021-12-01.7430821019
CLASS:PUBLIC
END:VEVENT
BEGIN:VEVENT
DTSTAMP:20260420T221325Z
CREATED:20211201T092543Z
UID:ATEvent-8b0d54d05a104984849f8e13f7532eca
LAST-MODIFIED:20211201T092543Z
SUMMARY:MTH-RT
DTSTART:20220323T130000Z
DTEND:20220323T143000Z
LOCATION:Lecture Room D
CONTACT:F. Villegas
URL:https://diploma-clear.ictp.it/courses/weekly-schedule/lecture-room-d/lecture.2021-12-01.7432361164
CLASS:PUBLIC
END:VEVENT
BEGIN:VEVENT
DTSTAMP:20260420T221325Z
CREATED:20211201T092543Z
UID:ATEvent-bf43d825b6564527985cf480b70b530b
LAST-MODIFIED:20211201T092543Z
SUMMARY:MTH-RT
DTSTART:20220324T130000Z
DTEND:20220324T143000Z
LOCATION:Lecture Room D
CONTACT:F. Villegas
URL:https://diploma-clear.ictp.it/courses/weekly-schedule/lecture-room-d/lecture.2021-12-01.7433997325
CLASS:PUBLIC
END:VEVENT
BEGIN:VEVENT
DTSTAMP:20260420T221325Z
CREATED:20211209T151738Z
UID:ATEvent-f6d1e42bfd8a497caee367c40b3f4498
LAST-MODIFIED:20211209T151738Z
SUMMARY:MTH-ODS
DTSTART:20220321T150000Z
DTEND:20220321T163000Z
LOCATION:Lecture Room D
CONTACT:S. Luzzatto
URL:https://diploma-clear.ictp.it/courses/weekly-schedule/lecture-room-d/lecture.2021-12-09.0588625934
CLASS:PUBLIC
END:VEVENT
BEGIN:VEVENT
DTSTAMP:20260420T221325Z
CREATED:20211215T083929Z
UID:ATEvent-8539c27a213f4c70b68e8c7d2d2ac256
LAST-MODIFIED:20211215T083929Z
SUMMARY:MTH-AG
DTSTART:20220322T150000Z
DTEND:20220322T163000Z
LOCATION:Lecture Room D
CONTACT:L. Göttsche
URL:https://diploma-clear.ictp.it/courses/weekly-schedule/lecture-room-d/lecture.2021-12-15.5697495657
CLASS:PUBLIC
END:VEVENT
BEGIN:VEVENT
DTSTAMP:20260420T221325Z
CREATED:20211209T151739Z
UID:ATEvent-8f755d9991aa4e98ba42f566839a344a
LAST-MODIFIED:20211209T151739Z
SUMMARY:MTH-ODS
DTSTART:20220323T150000Z
DTEND:20220323T163000Z
LOCATION:Lecture Room D
CONTACT:S. Luzzatto
URL:https://diploma-clear.ictp.it/courses/weekly-schedule/lecture-room-d/lecture.2021-12-09.0590220594
CLASS:PUBLIC
END:VEVENT
BEGIN:VEVENT
DTSTAMP:20260420T221325Z
CREATED:20211215T083929Z
UID:ATEvent-8dae5bb2bfed47e2ac41d9534e07e2a8
LAST-MODIFIED:20211215T083930Z
SUMMARY:MTH-AG
DTSTART:20220324T150000Z
DTEND:20220324T163000Z
LOCATION:Lecture Room D
CONTACT:L. Göttsche
URL:https://diploma-clear.ictp.it/courses/weekly-schedule/lecture-room-d/lecture.2021-12-15.5699117807
CLASS:PUBLIC
END:VEVENT
BEGIN:VEVENT
DTSTAMP:20260420T221325Z
CREATED:20211209T151739Z
UID:ATEvent-7355491d249b49018e6e9b4e4d08703f
LAST-MODIFIED:20211209T151739Z
SUMMARY:MTH-ODS
DTSTART:20220325T150000Z
DTEND:20220325T163000Z
LOCATION:Lecture Room D
CONTACT:S. Luzzatto
URL:https://diploma-clear.ictp.it/courses/weekly-schedule/lecture-room-d/lecture.2021-12-09.0591843045
CLASS:PUBLIC
END:VEVENT
END:VCALENDAR
