BEGIN:VCALENDAR
PRODID:-//ICTPDiploma//ATRoom//EN
VERSION:2.0
METHOD:PUBLISH
BEGIN:VEVENT
DTSTAMP:20260426T014743Z
CREATED:20131218T134429Z
UID:ATEvent-de20c0e7ace449089cac4c56d6c17ebd
LAST-MODIFIED:20131218T134429Z
SUMMARY:CMP-ASM
DTSTART:20140227T080000Z
DTEND:20140227T093000Z
LOCATION:Lecture Room D
CONTACT:A. Silva
URL:https://diploma-clear.ictp.it/courses/weekly-schedule/lecture-room-d/lecture.2013-12-18.2693131579
CLASS:PUBLIC
END:VEVENT
BEGIN:VEVENT
DTSTAMP:20260426T014743Z
CREATED:20131219T165859Z
UID:ATEvent-18e0d3b5337249eb9757d036e6b709a2
LAST-MODIFIED:20140225T130614Z
SUMMARY:MTH-DG
DTSTART:20140228T080000Z
DTEND:20140228T093000Z
LOCATION:Lecture Room D
CONTACT:C. Arezzo
URL:https://diploma-clear.ictp.it/courses/weekly-schedule/lecture-room-d/lecture.2013-12-19.3390723677
CLASS:PUBLIC
END:VEVENT
BEGIN:VEVENT
DTSTAMP:20260426T014743Z
CREATED:20131218T133957Z
UID:ATEvent-93123beb2dd841ea85ccd1565d96635f
LAST-MODIFIED:20131218T133957Z
SUMMARY:CMP-MBF
DTSTART:20140224T100000Z
DTEND:20140224T113000Z
LOCATION:Lecture Room D
CONTACT:A. Nersesyan
URL:https://diploma-clear.ictp.it/courses/weekly-schedule/lecture-room-d/lecture.2013-12-18.9972623832
CLASS:PUBLIC
END:VEVENT
BEGIN:VEVENT
DTSTAMP:20260426T014743Z
CREATED:20131219T165858Z
UID:ATEvent-7766b2ab91d04c139cae73d5a5ed8933
LAST-MODIFIED:20131219T165859Z
SUMMARY:MTH-DG
DTSTART:20140225T100000Z
DTEND:20140225T113000Z
LOCATION:Lecture Room D
CONTACT:C. Arezzo
URL:https://diploma-clear.ictp.it/courses/weekly-schedule/lecture-room-d/lecture.2013-12-19.3389319821
CLASS:PUBLIC
END:VEVENT
BEGIN:VEVENT
DTSTAMP:20260426T014743Z
CREATED:20131218T133957Z
UID:ATEvent-44d6a6f4d884420994649e023593ed9a
LAST-MODIFIED:20131218T133957Z
SUMMARY:CMP-MBF
DTSTART:20140226T100000Z
DTEND:20140226T113000Z
LOCATION:Lecture Room D
CONTACT:A. Nersesyan
URL:https://diploma-clear.ictp.it/courses/weekly-schedule/lecture-room-d/lecture.2013-12-18.9973991039
CLASS:PUBLIC
END:VEVENT
BEGIN:VEVENT
DTSTAMP:20260426T014743Z
CREATED:20131218T133957Z
UID:ATEvent-3c11c3fe6cf74e3988cbff3d438523d4
LAST-MODIFIED:20140210T151939Z
SUMMARY:CMP-MBF tut. 2
DTSTART:20140228T100000Z
DTEND:20140228T113000Z
LOCATION:Lecture Room D
CONTACT:A. Nersesyan
URL:https://diploma-clear.ictp.it/courses/weekly-schedule/lecture-room-d/cmp-mbf-tut-2
CLASS:PUBLIC
END:VEVENT
BEGIN:VEVENT
DTSTAMP:20260426T014743Z
CREATED:20131218T134429Z
UID:ATEvent-5503d758bfb24a78b0c82a161656a7f4
LAST-MODIFIED:20140204T150336Z
SUMMARY:CMP-ASM
DTSTART:20140225T130000Z
DTEND:20140225T143000Z
LOCATION:Lecture Room D
CONTACT:A. Silva
URL:https://diploma-clear.ictp.it/courses/weekly-schedule/lecture-room-d/lecture.2013-12-18.2691771066
CLASS:PUBLIC
END:VEVENT
BEGIN:VEVENT
DTSTAMP:20260426T014743Z
CREATED:20131219T172054Z
UID:ATEvent-9b39099d418846779e50f6dc31f2c8af
LAST-MODIFIED:20140224T092629Z
SUMMARY:MTH-AG
DTSTART:20140227T130000Z
DTEND:20140227T143000Z
LOCATION:Lecture Room D
CONTACT:L. Göttsche
URL:https://diploma-clear.ictp.it/courses/weekly-schedule/lecture-room-d/lecture.2013-12-19.6542732131
CLASS:PUBLIC
END:VEVENT
BEGIN:VEVENT
DTSTAMP:20260426T014743Z
CREATED:20131218T134603Z
UID:ATEvent-2fd6e82015084610847ecbac71865ca9
LAST-MODIFIED:20131218T134603Z
SUMMARY:CMP-ST II
DTSTART:20140228T130000Z
DTEND:20140228T143000Z
LOCATION:Lecture Room D
CONTACT:Y. Crespo\, N. Seriani
URL:https://diploma-clear.ictp.it/courses/weekly-schedule/lecture-room-d/lecture.2013-12-18.3633720981
CLASS:PUBLIC
END:VEVENT
BEGIN:VEVENT
DTSTAMP:20260426T014743Z
CREATED:20131219T172054Z
UID:ATEvent-01678115f079497089a1b5b98f4f2ff1
LAST-MODIFIED:20140224T092620Z
SUMMARY:MTH-AG
DTSTART:20140224T150000Z
DTEND:20140224T163000Z
LOCATION:Lecture Room D
CONTACT:L. Göttsche
URL:https://diploma-clear.ictp.it/courses/weekly-schedule/lecture-room-d/lecture.2013-12-19.6541252455
CLASS:PUBLIC
END:VEVENT
END:VCALENDAR
