BEGIN:VCALENDAR
PRODID:-//ICTPDiploma//ATRoom//EN
VERSION:2.0
METHOD:PUBLISH
BEGIN:VEVENT
DTSTAMP:20260421T104801Z
CREATED:20151207T112658Z
UID:ATEvent-150199b18025412a958073c6b17bab60
LAST-MODIFIED:20151207T112658Z
SUMMARY:MTH-ODE
DTSTART:20160215T080000Z
DTEND:20160215T093000Z
LOCATION:Lecture Room D
CONTACT:F. Rodriguez Villegas
URL:https://diploma-clear.ictp.it/courses/weekly-schedule/lecture-room-d/lecture.2015-12-07.6182518750
CLASS:PUBLIC
END:VEVENT
BEGIN:VEVENT
DTSTAMP:20260421T104801Z
CREATED:20151207T111944Z
UID:ATEvent-2070d3781f264b5a90f2c75b0763dfeb
LAST-MODIFIED:20151207T111944Z
SUMMARY:MTH-DG
DTSTART:20160216T080000Z
DTEND:20160216T093000Z
LOCATION:Lecture Room D
CONTACT:C. Arezzo
URL:https://diploma-clear.ictp.it/courses/weekly-schedule/lecture-room-d/lecture.2015-12-07.1846000711
CLASS:PUBLIC
END:VEVENT
BEGIN:VEVENT
DTSTAMP:20260421T104801Z
CREATED:20151207T112658Z
UID:ATEvent-afc7f42a56774edf866c13d3daf1ac1d
LAST-MODIFIED:20151207T112658Z
SUMMARY:MTH-ODE
DTSTART:20160217T080000Z
DTEND:20160217T093000Z
LOCATION:Lecture Room D
CONTACT:F. Rodriguez Villegas
URL:https://diploma-clear.ictp.it/courses/weekly-schedule/lecture-room-d/lecture.2015-12-07.6183742308
CLASS:PUBLIC
END:VEVENT
BEGIN:VEVENT
DTSTAMP:20260421T104801Z
CREATED:20151207T111944Z
UID:ATEvent-07e17c3ac7bd458f874da3e55a48e59c
LAST-MODIFIED:20151207T112108Z
SUMMARY:MTH-DG
DTSTART:20160218T080000Z
DTEND:20160218T093000Z
LOCATION:Lecture Room D
CONTACT:C. Arezzo
URL:https://diploma-clear.ictp.it/courses/weekly-schedule/lecture-room-d/lecture.2015-12-07.1847348939
CLASS:PUBLIC
END:VEVENT
BEGIN:VEVENT
DTSTAMP:20260421T104801Z
CREATED:20151207T134541Z
UID:ATEvent-01bc93fa59c94b2abb712f260f37ce67
LAST-MODIFIED:20151207T134541Z
SUMMARY:CMP-MBF
DTSTART:20160215T100000Z
DTEND:20160215T113000Z
LOCATION:Lecture Room D
CONTACT:A. Nersesyan
URL:https://diploma-clear.ictp.it/courses/weekly-schedule/lecture-room-d/lecture.2015-12-07.9414755686
CLASS:PUBLIC
END:VEVENT
BEGIN:VEVENT
DTSTAMP:20260421T104801Z
CREATED:20151207T134541Z
UID:ATEvent-01985e57323545b0b6e69b11b7d8d439
LAST-MODIFIED:20151207T134541Z
SUMMARY:CMP-MBF
DTSTART:20160217T100000Z
DTEND:20160217T113000Z
LOCATION:Lecture Room D
CONTACT:A. Nersesyan
URL:https://diploma-clear.ictp.it/courses/weekly-schedule/lecture-room-d/lecture.2015-12-07.9416004125
CLASS:PUBLIC
END:VEVENT
BEGIN:VEVENT
DTSTAMP:20260421T104801Z
CREATED:20151207T135340Z
UID:ATEvent-eec82f47d8a14a118720046ee48c3733
LAST-MODIFIED:20151207T135340Z
SUMMARY:CMP-ST II
DTSTART:20160219T130000Z
DTEND:20160219T143000Z
LOCATION:Lecture Room D
CONTACT:N. Seriani & O. Gonzalez
URL:https://diploma-clear.ictp.it/courses/weekly-schedule/lecture-room-d/lecture.2015-12-07.4201587441
CLASS:PUBLIC
END:VEVENT
BEGIN:VEVENT
DTSTAMP:20260421T104801Z
CREATED:20151207T111653Z
UID:ATEvent-fe6cd41f7ed242b5a19f8b06ed873def
LAST-MODIFIED:20151207T111654Z
SUMMARY:MTH-ALT
DTSTART:20160215T150000Z
DTEND:20160215T163000Z
LOCATION:Lecture Room D
CONTACT:B. Zimmermann
URL:https://diploma-clear.ictp.it/courses/weekly-schedule/lecture-room-d/lecture.2015-12-07.0139657902
CLASS:PUBLIC
END:VEVENT
BEGIN:VEVENT
DTSTAMP:20260421T104801Z
CREATED:20151207T111654Z
UID:ATEvent-da7e11c8e0d44b118ec13902bb7c29eb
LAST-MODIFIED:20151207T111654Z
SUMMARY:MTH-ALT
DTSTART:20160216T150000Z
DTEND:20160216T163000Z
LOCATION:Lecture Room D
CONTACT:B. Zimmermann
URL:https://diploma-clear.ictp.it/courses/weekly-schedule/lecture-room-d/lecture.2015-12-07.0141038958
CLASS:PUBLIC
END:VEVENT
BEGIN:VEVENT
DTSTAMP:20260421T104801Z
CREATED:20160210T163228Z
UID:ATEvent-e97adbc18e2447e0b6d7f2f6fd64cc13
LAST-MODIFIED:20160210T163323Z
SUMMARY:MTH-ODE tut. (1)
DTSTART:20160217T150000Z
DTEND:20160217T163000Z
LOCATION:Lecture Room D
CONTACT:O. Butterley
URL:https://diploma-clear.ictp.it/courses/weekly-schedule/lecture-room-d/mth-ode-tut-1-1
CLASS:PUBLIC
END:VEVENT
END:VCALENDAR
