BEGIN:VCALENDAR
PRODID:-//ICTPDiploma//ATRoom//EN
VERSION:2.0
METHOD:PUBLISH
BEGIN:VEVENT
DTSTAMP:20260420T170146Z
CREATED:20221122T102148Z
UID:ATEvent-36655e3410054e4189589fed9b952df8
LAST-MODIFIED:20221122T102148Z
SUMMARY:MTH-PDE
DTSTART:20230213T080000Z
DTEND:20230213T093000Z
LOCATION:Lecture Room D
CONTACT:G. Bellettini
URL:https://diploma-clear.ictp.it/courses/weekly-schedule/lecture-room-d/lecture.2022-11-22.5083384897
CLASS:PUBLIC
END:VEVENT
BEGIN:VEVENT
DTSTAMP:20260420T170146Z
CREATED:20221122T102148Z
UID:ATEvent-0c615b1d2ddf4dedb1086f7b3f6daa34
LAST-MODIFIED:20221122T102148Z
SUMMARY:MTH-PDE
DTSTART:20230214T080000Z
DTEND:20230214T093000Z
LOCATION:Lecture Room D
CONTACT:G. Bellettini
URL:https://diploma-clear.ictp.it/courses/weekly-schedule/lecture-room-d/lecture.2022-11-22.5084896916
CLASS:PUBLIC
END:VEVENT
BEGIN:VEVENT
DTSTAMP:20260420T170146Z
CREATED:20221122T102148Z
UID:ATEvent-a79a4973b2874b02afb92fde130c1ace
LAST-MODIFIED:20221122T102148Z
SUMMARY:MTH-PDE
DTSTART:20230215T080000Z
DTEND:20230215T093000Z
LOCATION:Lecture Room D
CONTACT:G. Bellettini
URL:https://diploma-clear.ictp.it/courses/weekly-schedule/lecture-room-d/lecture.2022-11-22.5086479973
CLASS:PUBLIC
END:VEVENT
BEGIN:VEVENT
DTSTAMP:20260420T170146Z
CREATED:20221122T101442Z
UID:ATEvent-a928ab3b5b7247b896dab738b4544789
LAST-MODIFIED:20221122T101515Z
SUMMARY:MTH-FA midterm test
DTSTART:20230216T100000Z
DTEND:20230216T113000Z
LOCATION:Lecture Room D
CONTACT:E. Carneiro
URL:https://diploma-clear.ictp.it/courses/weekly-schedule/lecture-room-d/mth-fa-midterm-test
CLASS:PUBLIC
END:VEVENT
BEGIN:VEVENT
DTSTAMP:20260420T170146Z
CREATED:20221208T151107Z
UID:ATEvent-35809bcffbbf4ba99c76da803b0f47e2
LAST-MODIFIED:20221208T151417Z
SUMMARY:MTH-PDE tut.
DTSTART:20230213T130000Z
DTEND:20230213T143000Z
LOCATION:Lecture Room D
CONTACT:Q.T. Dang
URL:https://diploma-clear.ictp.it/courses/weekly-schedule/lecture-room-d/mth-pde-tut-13
CLASS:PUBLIC
END:VEVENT
BEGIN:VEVENT
DTSTAMP:20260420T170146Z
CREATED:20221208T151315Z
UID:ATEvent-63595b0b5dcf44c99f84e06c0765dde7
LAST-MODIFIED:20221208T151316Z
SUMMARY:MTH-DG tut.
DTSTART:20230214T130000Z
DTEND:20230214T143000Z
LOCATION:Lecture Room D
CONTACT:C. Li
URL:https://diploma-clear.ictp.it/courses/weekly-schedule/lecture-room-d/lecture.2022-12-08.3959502229
CLASS:PUBLIC
END:VEVENT
BEGIN:VEVENT
DTSTAMP:20260420T170146Z
CREATED:20221130T091423Z
UID:ATEvent-d024bd12ae634c24af11b06567b7e769
LAST-MODIFIED:20221130T091423Z
SUMMARY:MTH-DG
DTSTART:20230213T150000Z
DTEND:20230213T163000Z
LOCATION:Lecture Room D
CONTACT:G. Landi
URL:https://diploma-clear.ictp.it/courses/weekly-schedule/lecture-room-d/lecture.2022-11-30.6632833847
CLASS:PUBLIC
END:VEVENT
BEGIN:VEVENT
DTSTAMP:20260420T170146Z
CREATED:20221130T091423Z
UID:ATEvent-460a49d665124d37b44bfa7159ab2a30
LAST-MODIFIED:20221130T091423Z
SUMMARY:MTH-DG
DTSTART:20230215T150000Z
DTEND:20230215T163000Z
LOCATION:Lecture Room D
CONTACT:G. Landi
URL:https://diploma-clear.ictp.it/courses/weekly-schedule/lecture-room-d/lecture.2022-11-30.6634384908
CLASS:PUBLIC
END:VEVENT
BEGIN:VEVENT
DTSTAMP:20260420T170146Z
CREATED:20221130T091423Z
UID:ATEvent-fff593ed3f4940f28a02ae5b0f265c79
LAST-MODIFIED:20221130T091423Z
SUMMARY:MTH-DG
DTSTART:20230216T150000Z
DTEND:20230216T163000Z
LOCATION:Lecture Room D
CONTACT:G. Landi
URL:https://diploma-clear.ictp.it/courses/weekly-schedule/lecture-room-d/lecture.2022-11-30.6635942742
CLASS:PUBLIC
END:VEVENT
END:VCALENDAR
