BEGIN:VCALENDAR
PRODID:-//ICTPDiploma//ATRoom//EN
VERSION:2.0
METHOD:PUBLISH
BEGIN:VEVENT
DTSTAMP:20260419T235233Z
CREATED:20131219T164932Z
UID:ATEvent-f727f4416de4471aafd9ae78f0d4c214
LAST-MODIFIED:20131219T164932Z
SUMMARY:MTH-ODE II
DTSTART:20140210T080000Z
DTEND:20140210T093000Z
LOCATION:Lecture Room D
CONTACT:S. Luzzatto
URL:https://diploma-clear.ictp.it/courses/weekly-schedule/lecture-room-d/lecture.2013-12-19.7723542582
CLASS:PUBLIC
END:VEVENT
BEGIN:VEVENT
DTSTAMP:20260419T235233Z
CREATED:20131218T134428Z
UID:ATEvent-9bfcefeff27247e5887d03d2e68885b2
LAST-MODIFIED:20131218T134428Z
SUMMARY:CMP-ASM
DTSTART:20140211T080000Z
DTEND:20140211T093000Z
LOCATION:Lecture Room D
CONTACT:A. Silva
URL:https://diploma-clear.ictp.it/courses/weekly-schedule/lecture-room-d/lecture.2013-12-18.2686561428
CLASS:PUBLIC
END:VEVENT
BEGIN:VEVENT
DTSTAMP:20260419T235233Z
CREATED:20131219T164932Z
UID:ATEvent-7b80a7fb0a744ab1ae46647e14f1b731
LAST-MODIFIED:20131219T164932Z
SUMMARY:MTH-ODE II
DTSTART:20140212T080000Z
DTEND:20140212T093000Z
LOCATION:Lecture Room D
CONTACT:S. Luzzatto
URL:https://diploma-clear.ictp.it/courses/weekly-schedule/lecture-room-d/lecture.2013-12-19.7724830335
CLASS:PUBLIC
END:VEVENT
BEGIN:VEVENT
DTSTAMP:20260419T235233Z
CREATED:20131218T134428Z
UID:ATEvent-c8e00453a8214206ab26e6c7b65a7a45
LAST-MODIFIED:20131218T134428Z
SUMMARY:CMP-ASM
DTSTART:20140213T080000Z
DTEND:20140213T093000Z
LOCATION:Lecture Room D
CONTACT:A. Silva
URL:https://diploma-clear.ictp.it/courses/weekly-schedule/lecture-room-d/lecture.2013-12-18.2687824520
CLASS:PUBLIC
END:VEVENT
BEGIN:VEVENT
DTSTAMP:20260419T235233Z
CREATED:20131219T164932Z
UID:ATEvent-ee65a34e7ec446d998490a794f2038ca
LAST-MODIFIED:20131219T164932Z
SUMMARY:MTH-ODE II
DTSTART:20140214T080000Z
DTEND:20140214T093000Z
LOCATION:Lecture Room D
CONTACT:S. Luzzatto
URL:https://diploma-clear.ictp.it/courses/weekly-schedule/lecture-room-d/lecture.2013-12-19.7726216186
CLASS:PUBLIC
END:VEVENT
BEGIN:VEVENT
DTSTAMP:20260419T235233Z
CREATED:20131218T133956Z
UID:ATEvent-5fe21d980d14407c862e2f6a80cae709
LAST-MODIFIED:20131218T133956Z
SUMMARY:CMP-MBF
DTSTART:20140210T100000Z
DTEND:20140210T113000Z
LOCATION:Lecture Room D
CONTACT:A. Nersesyan
URL:https://diploma-clear.ictp.it/courses/weekly-schedule/lecture-room-d/lecture.2013-12-18.9963809184
CLASS:PUBLIC
END:VEVENT
BEGIN:VEVENT
DTSTAMP:20260419T235233Z
CREATED:20131219T165858Z
UID:ATEvent-6e90e65e6aa740b29fa91eb252542493
LAST-MODIFIED:20131219T165858Z
SUMMARY:MTH-DG
DTSTART:20140211T100000Z
DTEND:20140211T113000Z
LOCATION:Lecture Room D
CONTACT:C. Arezzo
URL:https://diploma-clear.ictp.it/courses/weekly-schedule/lecture-room-d/lecture.2013-12-19.3383438037
CLASS:PUBLIC
END:VEVENT
BEGIN:VEVENT
DTSTAMP:20260419T235233Z
CREATED:20131218T133956Z
UID:ATEvent-ede9a2f1fadd44bcb4e743faa10da97c
LAST-MODIFIED:20131218T133956Z
SUMMARY:CMP-MBF
DTSTART:20140212T100000Z
DTEND:20140212T113000Z
LOCATION:Lecture Room D
CONTACT:A. Nersesyan
URL:https://diploma-clear.ictp.it/courses/weekly-schedule/lecture-room-d/lecture.2013-12-18.9965204774
CLASS:PUBLIC
END:VEVENT
BEGIN:VEVENT
DTSTAMP:20260419T235233Z
CREATED:20131219T165858Z
UID:ATEvent-0212ff92aeac4b9d85177d2d2bd5befb
LAST-MODIFIED:20131219T165858Z
SUMMARY:MTH-DG
DTSTART:20140213T100000Z
DTEND:20140213T113000Z
LOCATION:Lecture Room D
CONTACT:C. Arezzo
URL:https://diploma-clear.ictp.it/courses/weekly-schedule/lecture-room-d/lecture.2013-12-19.3384863035
CLASS:PUBLIC
END:VEVENT
BEGIN:VEVENT
DTSTAMP:20260419T235233Z
CREATED:20131218T133956Z
UID:ATEvent-4ae533ca145d4b688426750b2f766dcd
LAST-MODIFIED:20140210T151536Z
SUMMARY:CMP-MBF TEST
DTSTART:20140214T100000Z
DTEND:20140214T113000Z
LOCATION:Lecture Room D
CONTACT:A. Nersesyan
URL:https://diploma-clear.ictp.it/courses/weekly-schedule/lecture-room-d/cmp-mbf-test
CLASS:PUBLIC
END:VEVENT
BEGIN:VEVENT
DTSTAMP:20260419T235233Z
CREATED:20131219T170540Z
UID:ATEvent-a3da330b1a9f4688a61e8633b02707b3
LAST-MODIFIED:20131219T170540Z
SUMMARY:MTH-PDE
DTSTART:20140210T130000Z
DTEND:20140210T143000Z
LOCATION:Lecture Room D
CONTACT:G. Bellettini
URL:https://diploma-clear.ictp.it/courses/weekly-schedule/lecture-room-d/lecture.2013-12-19.7403258784
CLASS:PUBLIC
END:VEVENT
BEGIN:VEVENT
DTSTAMP:20260419T235233Z
CREATED:20131219T170540Z
UID:ATEvent-a7ae457ffb8b4cac957390191f7e5dc4
LAST-MODIFIED:20131219T170540Z
SUMMARY:MTH-PDE
DTSTART:20140211T130000Z
DTEND:20140211T143000Z
LOCATION:Lecture Room D
CONTACT:G. Bellettini
URL:https://diploma-clear.ictp.it/courses/weekly-schedule/lecture-room-d/lecture.2013-12-19.7404536589
CLASS:PUBLIC
END:VEVENT
BEGIN:VEVENT
DTSTAMP:20260419T235233Z
CREATED:20131219T170540Z
UID:ATEvent-929275dbe49b45f98932f40f6959b09a
LAST-MODIFIED:20131219T170540Z
SUMMARY:MTH-PDE
DTSTART:20140212T130000Z
DTEND:20140212T143000Z
LOCATION:Lecture Room D
CONTACT:G. Bellettini
URL:https://diploma-clear.ictp.it/courses/weekly-schedule/lecture-room-d/lecture.2013-12-19.7405787155
CLASS:PUBLIC
END:VEVENT
BEGIN:VEVENT
DTSTAMP:20260419T235233Z
CREATED:20140207T102156Z
UID:ATEvent-7c5a94e9442f4e7ab5e782e0ea72fc16
LAST-MODIFIED:20140207T102236Z
SUMMARY:CMP-MBP tut. (1)
DTSTART:20140213T130000Z
DTEND:20140213T143000Z
LOCATION:Lecture Room D
CONTACT:M. Kiselev
URL:https://diploma-clear.ictp.it/courses/weekly-schedule/lecture-room-d/cmp-mbp-tut-1-1
CLASS:PUBLIC
END:VEVENT
BEGIN:VEVENT
DTSTAMP:20260419T235233Z
CREATED:20131218T134603Z
UID:ATEvent-81aa9e7be4e0463dbad7128f6de2bce6
LAST-MODIFIED:20131218T134603Z
SUMMARY:CMP-ST II
DTSTART:20140214T130000Z
DTEND:20140214T143000Z
LOCATION:Lecture Room D
CONTACT:Y. Crespo\, N. Seriani
URL:https://diploma-clear.ictp.it/courses/weekly-schedule/lecture-room-d/lecture.2013-12-18.3630773426
CLASS:PUBLIC
END:VEVENT
BEGIN:VEVENT
DTSTAMP:20260419T235233Z
CREATED:20140210T151658Z
UID:ATEvent-e8cf25a85add4c9e86ce0413c133b5ea
LAST-MODIFIED:20140210T151728Z
SUMMARY:CMP-MBF tut. 1
DTSTART:20140213T150000Z
DTEND:20140213T163000Z
LOCATION:Lecture Room D
CONTACT:A. Nersesyan
URL:https://diploma-clear.ictp.it/courses/weekly-schedule/lecture-room-d/cmp-mbf-tut-1
CLASS:PUBLIC
END:VEVENT
END:VCALENDAR
