BEGIN:VCALENDAR
PRODID:-//ICTPDiploma//ATRoom//EN
VERSION:2.0
METHOD:PUBLISH
BEGIN:VEVENT
DTSTAMP:20260422T170350Z
CREATED:20191206T143634Z
UID:ATEvent-72b2937af64c45e8abaaaaa9f62d7b6b
LAST-MODIFIED:20191206T143634Z
SUMMARY:MTH-DG
DTSTART:20200203T080000Z
DTEND:20200203T093000Z
LOCATION:Lecture Room D
CONTACT:C. Arezzo
URL:https://diploma-clear.ictp.it/courses/weekly-schedule/lecture-room-d/lecture.2019-12-06.9943410723
CLASS:PUBLIC
END:VEVENT
BEGIN:VEVENT
DTSTAMP:20260422T170350Z
CREATED:20191206T143634Z
UID:ATEvent-63d457466b77401392e9b6ada13052d2
LAST-MODIFIED:20191206T143634Z
SUMMARY:MTH-DG
DTSTART:20200206T080000Z
DTEND:20200206T093000Z
LOCATION:Lecture Room D
CONTACT:C. Arezzo
URL:https://diploma-clear.ictp.it/courses/weekly-schedule/lecture-room-d/lecture.2019-12-06.9945017018
CLASS:PUBLIC
END:VEVENT
BEGIN:VEVENT
DTSTAMP:20260422T170350Z
CREATED:20191115T103034Z
UID:ATEvent-ab90e28350ed49f0acbd25217150ff01
LAST-MODIFIED:20191115T103034Z
SUMMARY:CMP-MBF
DTSTART:20200203T100000Z
DTEND:20200203T113000Z
LOCATION:Lecture Room D
CONTACT:A. Nersesyan
URL:https://diploma-clear.ictp.it/courses/weekly-schedule/lecture-room-d/lecture.2019-11-15.8344567664
CLASS:PUBLIC
END:VEVENT
BEGIN:VEVENT
DTSTAMP:20260422T170350Z
CREATED:20200121T131649Z
UID:ATEvent-63c0448e16da47528f9ae89e80b87f2b
LAST-MODIFIED:20200121T131734Z
SUMMARY:MTH-ALT tut.
DTSTART:20200204T100000Z
DTEND:20200204T113000Z
LOCATION:Lecture Room D
CONTACT:Zakarias Jon Sjostrom Dyrefelt
URL:https://diploma-clear.ictp.it/courses/weekly-schedule/lecture-room-d/mth-alt-tut-10
CLASS:PUBLIC
END:VEVENT
BEGIN:VEVENT
DTSTAMP:20260422T170350Z
CREATED:20191115T103034Z
UID:ATEvent-a465cef6cdd144639680258eee5a489f
LAST-MODIFIED:20191115T103034Z
SUMMARY:CMP-MBF
DTSTART:20200205T100000Z
DTEND:20200205T113000Z
LOCATION:Lecture Room D
CONTACT:A. Nersesyan
URL:https://diploma-clear.ictp.it/courses/weekly-schedule/lecture-room-d/lecture.2019-11-15.8346060686
CLASS:PUBLIC
END:VEVENT
BEGIN:VEVENT
DTSTAMP:20260422T170350Z
CREATED:20191115T103034Z
UID:ATEvent-30d982b433dc44c6ba84ac1ab91265f5
LAST-MODIFIED:20191115T103034Z
SUMMARY:CMP-MBF
DTSTART:20200207T100000Z
DTEND:20200207T113000Z
LOCATION:Lecture Room D
CONTACT:A. Nersesyan
URL:https://diploma-clear.ictp.it/courses/weekly-schedule/lecture-room-d/lecture.2019-11-15.8347568274
CLASS:PUBLIC
END:VEVENT
BEGIN:VEVENT
DTSTAMP:20260422T170350Z
CREATED:20191206T142803Z
UID:ATEvent-914681ccf415462db253931fc83bd016
LAST-MODIFIED:20191206T142804Z
SUMMARY:MTH-FA
DTSTART:20200203T130000Z
DTEND:20200203T143000Z
LOCATION:Lecture Room D
CONTACT:E. Carneiro
URL:https://diploma-clear.ictp.it/courses/weekly-schedule/lecture-room-d/lecture.2019-12-06.4839148455
CLASS:PUBLIC
END:VEVENT
BEGIN:VEVENT
DTSTAMP:20260422T170350Z
CREATED:20191206T142804Z
UID:ATEvent-eb6d446d81b049e8b81e03dd2fb7fd4b
LAST-MODIFIED:20191206T142804Z
SUMMARY:MTH-FA
DTSTART:20200204T130000Z
DTEND:20200204T143000Z
LOCATION:Lecture Room D
CONTACT:E. Carneiro
URL:https://diploma-clear.ictp.it/courses/weekly-schedule/lecture-room-d/lecture.2019-12-06.4840608694
CLASS:PUBLIC
END:VEVENT
BEGIN:VEVENT
DTSTAMP:20260422T170350Z
CREATED:20200121T131741Z
UID:ATEvent-850b3f50ee2f4df9844c6dc2fb9d3e1c
LAST-MODIFIED:20200221T091738Z
SUMMARY:MTH-FA tut. (2)
DTSTART:20200205T130000Z
DTEND:20200205T143000Z
LOCATION:Lecture Room D
CONTACT:E. Carneiro
URL:https://diploma-clear.ictp.it/courses/weekly-schedule/lecture-room-d/mth-fa-tut-3-1
CLASS:PUBLIC
END:VEVENT
BEGIN:VEVENT
DTSTAMP:20260422T170350Z
CREATED:20191206T142804Z
UID:ATEvent-ddc12e4edceb4cc0b2b12db9ee412d01
LAST-MODIFIED:20191206T142804Z
SUMMARY:MTH-FA
DTSTART:20200206T130000Z
DTEND:20200206T143000Z
LOCATION:Lecture Room D
CONTACT:E. Carneiro
URL:https://diploma-clear.ictp.it/courses/weekly-schedule/lecture-room-d/lecture.2019-12-06.4842090627
CLASS:PUBLIC
END:VEVENT
BEGIN:VEVENT
DTSTAMP:20260422T170350Z
CREATED:20191115T103201Z
UID:ATEvent-eab9fe3e618d4164a8d5eee3f29d509e
LAST-MODIFIED:20191115T103201Z
SUMMARY:CMP-ST II
DTSTART:20200207T130000Z
DTEND:20200207T143000Z
LOCATION:Lecture Room D
CONTACT:N. Seriani\, S. Ghosh
URL:https://diploma-clear.ictp.it/courses/weekly-schedule/lecture-room-d/lecture.2019-11-15.9215426481
CLASS:PUBLIC
END:VEVENT
BEGIN:VEVENT
DTSTAMP:20260422T170350Z
CREATED:20191209T105427Z
UID:ATEvent-f96f871ef9454c8594060b70d929f4da
LAST-MODIFIED:20191209T105427Z
SUMMARY:MTH-ALT
DTSTART:20200203T150000Z
DTEND:20200203T163000Z
LOCATION:Lecture Room D
CONTACT:P. Putrov
URL:https://diploma-clear.ictp.it/courses/weekly-schedule/lecture-room-d/lecture.2019-12-09.8670595564
CLASS:PUBLIC
END:VEVENT
BEGIN:VEVENT
DTSTAMP:20260422T170350Z
CREATED:20191209T105427Z
UID:ATEvent-a20515660a4d48d486ef5a9b6b4ac431
LAST-MODIFIED:20191209T105427Z
SUMMARY:MTH-ALT
DTSTART:20200204T150000Z
DTEND:20200204T163000Z
LOCATION:Lecture Room D
CONTACT:P. Putrov
URL:https://diploma-clear.ictp.it/courses/weekly-schedule/lecture-room-d/lecture.2019-12-09.8672939651
CLASS:PUBLIC
END:VEVENT
BEGIN:VEVENT
DTSTAMP:20260422T170350Z
CREATED:20191209T105427Z
UID:ATEvent-3099b7128b854bd4ab9de1bfee623cc6
LAST-MODIFIED:20191209T105427Z
SUMMARY:MTH-ALT
DTSTART:20200205T150000Z
DTEND:20200205T163000Z
LOCATION:Lecture Room D
CONTACT:P. Putrov
URL:https://diploma-clear.ictp.it/courses/weekly-schedule/lecture-room-d/lecture.2019-12-09.8674501462
CLASS:PUBLIC
END:VEVENT
BEGIN:VEVENT
DTSTAMP:20260422T170350Z
CREATED:20191206T143249Z
UID:ATEvent-f4385fae130546dd885ab6a4004bb2ab
LAST-MODIFIED:20191206T143249Z
SUMMARY:MTH-PDE
DTSTART:20200206T150000Z
DTEND:20200206T163000Z
LOCATION:Lecture Room D
CONTACT:G. Bellettini
URL:https://diploma-clear.ictp.it/courses/weekly-schedule/lecture-room-d/lecture.2019-12-06.7694145245
CLASS:PUBLIC
END:VEVENT
BEGIN:VEVENT
DTSTAMP:20260422T170350Z
CREATED:20191206T143249Z
UID:ATEvent-451e812b0b23452faee1d701b5170baf
LAST-MODIFIED:20191206T143249Z
SUMMARY:MTH-PDE
DTSTART:20200207T150000Z
DTEND:20200207T163000Z
LOCATION:Lecture Room D
CONTACT:G. Bellettini
URL:https://diploma-clear.ictp.it/courses/weekly-schedule/lecture-room-d/lecture.2019-12-06.7695734422
CLASS:PUBLIC
END:VEVENT
END:VCALENDAR
