BEGIN:VCALENDAR
PRODID:-//ICTPDiploma//ATRoom//EN
VERSION:2.0
METHOD:PUBLISH
BEGIN:VEVENT
DTSTAMP:20260423T021218Z
CREATED:20111219T171525Z
UID:ATEvent-deafd1ddf87dd8a024bdd9858cb8fb3a
LAST-MODIFIED:20120119T140410Z
SUMMARY:MTH-AA
DTSTART:20120130T080000Z
DTEND:20120130T093000Z
LOCATION:Lecture Room D
CONTACT:M. Thakur
URL:https://diploma-clear.ictp.it/courses/weekly-schedule/lecture-room-d/lecture.2011-12-19.9252226174
CLASS:PUBLIC
END:VEVENT
BEGIN:VEVENT
DTSTAMP:20260423T021218Z
CREATED:20111219T171525Z
UID:ATEvent-2c8d026312a3b56397cbe038c787b944
LAST-MODIFIED:20120119T140418Z
SUMMARY:MTH-AA
DTSTART:20120201T080000Z
DTEND:20120201T093000Z
LOCATION:Lecture Room D
CONTACT:M. Thakur
URL:https://diploma-clear.ictp.it/courses/weekly-schedule/lecture-room-d/lecture.2011-12-19.9255717465
CLASS:PUBLIC
END:VEVENT
BEGIN:VEVENT
DTSTAMP:20260423T021218Z
CREATED:20111219T171526Z
UID:ATEvent-fe0f2c2bb1a98a7e23d8b0c3b1c98802
LAST-MODIFIED:20120119T140929Z
SUMMARY:MTH-AA
DTSTART:20120202T080000Z
DTEND:20120202T093000Z
LOCATION:Lecture Room D
CONTACT:M. Thakur
URL:https://diploma-clear.ictp.it/courses/weekly-schedule/lecture-room-d/lecture.2011-12-19.9258958179
CLASS:PUBLIC
END:VEVENT
BEGIN:VEVENT
DTSTAMP:20260423T021218Z
CREATED:20111216T151942Z
UID:ATEvent-e480d3b83ee8703623e78d570610f8e8
LAST-MODIFIED:20111216T151942Z
SUMMARY:CMP-MBF
DTSTART:20120130T100000Z
DTEND:20120130T113000Z
LOCATION:Lecture Room D
CONTACT:A. Nersesyan
URL:https://diploma-clear.ictp.it/courses/weekly-schedule/lecture-room-d/lecture.2011-12-16.7822600079
CLASS:PUBLIC
END:VEVENT
BEGIN:VEVENT
DTSTAMP:20260423T021218Z
CREATED:20111216T151942Z
UID:ATEvent-e6a44bf9e16bcd33458833e3419f41b5
LAST-MODIFIED:20111216T151942Z
SUMMARY:CMP-MBF
DTSTART:20120201T100000Z
DTEND:20120201T113000Z
LOCATION:Lecture Room D
CONTACT:A. Nersesyan
URL:https://diploma-clear.ictp.it/courses/weekly-schedule/lecture-room-d/lecture.2011-12-16.7825807446
CLASS:PUBLIC
END:VEVENT
BEGIN:VEVENT
DTSTAMP:20260423T021218Z
CREATED:20111216T151943Z
UID:ATEvent-cb43426250146170e456d3c2e8b213b9
LAST-MODIFIED:20120130T111020Z
SUMMARY:CMP-MBF tut. (1)
DTSTART:20120203T100000Z
DTEND:20120203T113000Z
LOCATION:Lecture Room D
URL:https://diploma-clear.ictp.it/courses/weekly-schedule/lecture-room-d/cmp-mbf-tut.-1
CLASS:PUBLIC
END:VEVENT
BEGIN:VEVENT
DTSTAMP:20260423T021218Z
CREATED:20111216T152214Z
UID:ATEvent-c3bb16cd304946aac4bdfb41f6a206cb
LAST-MODIFIED:20111216T152214Z
SUMMARY:CMP-ASM
DTSTART:20120130T130000Z
DTEND:20120130T143000Z
LOCATION:Lecture Room D
CONTACT:A. Silva
URL:https://diploma-clear.ictp.it/courses/weekly-schedule/lecture-room-d/lecture.2011-12-16.9340359989
CLASS:PUBLIC
END:VEVENT
BEGIN:VEVENT
DTSTAMP:20260423T021218Z
CREATED:20111216T152214Z
UID:ATEvent-48f9daab0aa791a7e6c7f7764124ff7c
LAST-MODIFIED:20111216T152214Z
SUMMARY:CMP-ASM
DTSTART:20120131T130000Z
DTEND:20120131T143000Z
LOCATION:Lecture Room D
CONTACT:A. Silva
URL:https://diploma-clear.ictp.it/courses/weekly-schedule/lecture-room-d/lecture.2011-12-16.9343766807
CLASS:PUBLIC
END:VEVENT
BEGIN:VEVENT
DTSTAMP:20260423T021218Z
CREATED:20111216T152214Z
UID:ATEvent-f235e80738fc65c56e7570e35a8c9631
LAST-MODIFIED:20111216T152215Z
SUMMARY:CMP-ASM
DTSTART:20120202T130000Z
DTEND:20120202T143000Z
LOCATION:Lecture Room D
CONTACT:A. Silva
URL:https://diploma-clear.ictp.it/courses/weekly-schedule/lecture-room-d/lecture.2011-12-16.9347141623
CLASS:PUBLIC
END:VEVENT
BEGIN:VEVENT
DTSTAMP:20260423T021218Z
CREATED:20111216T151829Z
UID:ATEvent-08d85b4e3f3b0f5e5cd851912697023a
LAST-MODIFIED:20111216T151830Z
SUMMARY:CMP-ST
DTSTART:20120203T130000Z
DTEND:20120203T143000Z
LOCATION:Lecture Room D
URL:https://diploma-clear.ictp.it/courses/weekly-schedule/lecture-room-d/lecture.2011-12-16.7097105066
CLASS:PUBLIC
END:VEVENT
END:VCALENDAR
