BEGIN:VCALENDAR
PRODID:-//ICTPDiploma//ATRoom//EN
VERSION:2.0
METHOD:PUBLISH
BEGIN:VEVENT
DTSTAMP:20260421T061204Z
CREATED:20101112T134913Z
UID:ATEvent-a0891a125293575a76d9c06a04d93779
LAST-MODIFIED:20101112T134941Z
SUMMARY:CMP-SM
DTSTART:20110111T080000Z
DTEND:20110111T093000Z
LOCATION:Lecture Room D
CONTACT:M. Müller
URL:https://diploma-clear.ictp.it/courses/weekly-schedule/lecture-room-d/cmp-sm-39
CLASS:PUBLIC
END:VEVENT
BEGIN:VEVENT
DTSTAMP:20260421T061204Z
CREATED:20101112T134947Z
UID:ATEvent-bb7d6a005dc57717b811ae674f88f571
LAST-MODIFIED:20101112T135010Z
SUMMARY:EXAM
DTSTART:20110111T100000Z
DTEND:20110111T113000Z
LOCATION:Lecture Room D
CONTACT:M. Müller
URL:https://diploma-clear.ictp.it/courses/weekly-schedule/lecture-room-d/exam-29
CLASS:PUBLIC
END:VEVENT
BEGIN:VEVENT
DTSTAMP:20260421T061204Z
CREATED:20101209T102708Z
UID:ATEvent-e2d3b2c711556f1f511dab33b6e6204d
LAST-MODIFIED:20101209T102734Z
SUMMARY:MTH-RA
DTSTART:20110110T130000Z
DTEND:20110110T143000Z
LOCATION:Lecture Room D
CONTACT:E. Sincich
URL:https://diploma-clear.ictp.it/courses/weekly-schedule/lecture-room-d/mth-ra-40
CLASS:PUBLIC
END:VEVENT
BEGIN:VEVENT
DTSTAMP:20260421T061204Z
CREATED:20101209T102741Z
UID:ATEvent-0620ea571bf3fb3747b799aa40083a74
LAST-MODIFIED:20101209T102803Z
SUMMARY:EXAM
DTSTART:20110110T150000Z
DTEND:20110110T163000Z
LOCATION:Lecture Room D
CONTACT:E. Sincich
URL:https://diploma-clear.ictp.it/courses/weekly-schedule/lecture-room-d/exam-31
CLASS:PUBLIC
END:VEVENT
END:VCALENDAR
