BEGIN:VCALENDAR
PRODID:-//ICTPDiploma//ATRoom//EN
VERSION:2.0
METHOD:PUBLISH
BEGIN:VEVENT
DTSTAMP:20260420T133517Z
CREATED:20081217T083842Z
UID:ATEvent-1cdcabb6574c543fa537a7d2056587d4
LAST-MODIFIED:20090113T103053Z
SUMMARY:MTH-RA
DTSTART:20090114T080000Z
DTEND:20090114T093000Z
LOCATION:Lecture Room D
CONTACT:Gianni Dal Maso
URL:https://diploma-clear.ictp.it/courses/weekly-schedule/lecture-room-d/mth-ra-9
CLASS:PUBLIC
END:VEVENT
BEGIN:VEVENT
DTSTAMP:20260420T133517Z
CREATED:20081217T084153Z
UID:ATEvent-ed5f5e438933184433e0e330b342e56f
LAST-MODIFIED:20081217T084239Z
SUMMARY:9:30 hrs
DTSTART:20090115T080000Z
DTEND:20090115T093000Z
LOCATION:Lecture Room D
CONTACT:Fabio Romanelli
URL:https://diploma-clear.ictp.it/courses/weekly-schedule/lecture-room-d/9-30-hrs
CLASS:PUBLIC
END:VEVENT
BEGIN:VEVENT
DTSTAMP:20260420T133517Z
CREATED:20081217T084017Z
UID:ATEvent-6e13a1944df378ae170ef023963087a3
LAST-MODIFIED:20090113T103105Z
SUMMARY:EXAM
DTSTART:20090114T100000Z
DTEND:20090114T113000Z
LOCATION:Lecture Room D
CONTACT:Gianni Dal Maso
URL:https://diploma-clear.ictp.it/courses/weekly-schedule/lecture-room-d/exam-4
CLASS:PUBLIC
END:VEVENT
BEGIN:VEVENT
DTSTAMP:20260420T133517Z
CREATED:20081217T084256Z
UID:ATEvent-c3188256cebf11d680130c36b5291280
LAST-MODIFIED:20081217T084344Z
SUMMARY:ESP - WP
DTSTART:20090115T100000Z
DTEND:20090115T113000Z
LOCATION:Lecture Room D
CONTACT:Fabio Romanelli
URL:https://diploma-clear.ictp.it/courses/weekly-schedule/lecture-room-d/esp-wp
CLASS:PUBLIC
END:VEVENT
BEGIN:VEVENT
DTSTAMP:20260420T133517Z
CREATED:20081217T084413Z
UID:ATEvent-d5a31fdff6253fce7cbbd98d50cf6191
LAST-MODIFIED:20081217T084515Z
SUMMARY:EXAM
DTSTART:20090115T130000Z
DTEND:20090115T143000Z
LOCATION:Lecture Room D
CONTACT:Fabio Romanelli
URL:https://diploma-clear.ictp.it/courses/weekly-schedule/lecture-room-d/exam-5
CLASS:PUBLIC
END:VEVENT
BEGIN:VEVENT
DTSTAMP:20260420T133517Z
CREATED:20081217T084858Z
UID:ATEvent-9a934228e3fd89069af6313070696b2d
LAST-MODIFIED:20081217T084933Z
SUMMARY:(oral)
DTSTART:20090115T150000Z
DTEND:20090115T163000Z
LOCATION:Lecture Room D
CONTACT:Fabio Romanelli
URL:https://diploma-clear.ictp.it/courses/weekly-schedule/lecture-room-d/oral
CLASS:PUBLIC
END:VEVENT
END:VCALENDAR
