BEGIN:VCALENDAR
PRODID:-//AT Content Types//AT Event//EN
VERSION:2.0
METHOD:PUBLISH
BEGIN:VEVENT
DTSTAMP:20260423T034957Z
CREATED:20170224T101530Z
UID:ATEvent-1d5f54441b154302aae8aa0fe0b90d7f
LAST-MODIFIED:20170224T101545Z
SUMMARY:holiday
DTSTART:20170501T140000Z
DTEND:20170501T153000Z
LOCATION:Lecture Room D
URL:https://diploma-clear.ictp.it/courses/weekly-schedule/lecture-room-d/holiday-7
CLASS:PUBLIC
END:VEVENT
END:VCALENDAR
