BEGIN:VCALENDAR
PRODID:-//AT Content Types//AT Event//EN
VERSION:2.0
METHOD:PUBLISH
BEGIN:VEVENT
DTSTAMP:20260420T030220Z
CREATED:20211005T135748Z
UID:ATEvent-addfac70b2f54abc896244fb8068e251
LAST-MODIFIED:20211005T135813Z
SUMMARY:holiday
DTSTART:20211101T150000Z
DTEND:20211101T163000Z
LOCATION:Lecture Room D
URL:https://diploma-clear.ictp.it/courses/weekly-schedule/lecture-room-d/holiday-20
CLASS:PUBLIC
END:VEVENT
END:VCALENDAR
