BEGIN:VCALENDAR
PRODID:-//AT Content Types//AT Event//EN
VERSION:2.0
METHOD:PUBLISH
BEGIN:VEVENT
DTSTAMP:20260422T095834Z
CREATED:20081118T131208Z
UID:ATEvent-1c5b2aefc33dced4003815bf8e8d54c1
LAST-MODIFIED:20081202T161930Z
SUMMARY:EXAM
DTSTART:20081211T100000Z
DTEND:20081211T113000Z
LOCATION:Lecture Room D
CONTACT:L. Gottsche
URL:https://diploma-clear.ictp.it/courses/weekly-schedule/lecture-room-d/exam
CLASS:PUBLIC
END:VEVENT
END:VCALENDAR
