BEGIN:VCALENDAR
PRODID:-//AT Content Types//AT Event//EN
VERSION:2.0
METHOD:PUBLISH
BEGIN:VEVENT
DTSTAMP:20260421T103715Z
CREATED:20131212T140942Z
UID:ATEvent-26a1f90d5d5249abbe193571f2ccc630
LAST-MODIFIED:20131212T141012Z
SUMMARY:EXAM
DTSTART:20140116T100000Z
DTEND:20140116T113000Z
LOCATION:Lecture Room D
CONTACT:A. Scardicchio
URL:https://diploma-clear.ictp.it/courses/weekly-schedule/lecture-room-d/exam-83
CLASS:PUBLIC
END:VEVENT
END:VCALENDAR
