BEGIN:VCALENDAR
PRODID:-//AT Content Types//AT Event//EN
VERSION:2.0
METHOD:PUBLISH
BEGIN:VEVENT
DTSTAMP:20260422T125104Z
CREATED:20131212T133422Z
UID:ATEvent-b98c226d59a247aea32f10c524aa0e76
LAST-MODIFIED:20131212T133441Z
SUMMARY:EXAM
DTSTART:20140108T100000Z
DTEND:20140108T113000Z
LOCATION:Lecture Room D
CONTACT:S. Luzzatto
URL:https://diploma-clear.ictp.it/courses/weekly-schedule/lecture-room-d/exam-82
CLASS:PUBLIC
END:VEVENT
END:VCALENDAR
