BEGIN:VCALENDAR
PRODID:-//AT Content Types//AT Event//EN
VERSION:2.0
METHOD:PUBLISH
BEGIN:VEVENT
DTSTAMP:20260423T034918Z
CREATED:20120514T143210Z
UID:ATEvent-a663f367c3697b9697fd8f9330779b5c
LAST-MODIFIED:20120514T143958Z
SUMMARY:EXAM
DTSTART:20120525T090000Z
DTEND:20120525T103000Z
LOCATION:Lecture Room D
CONTACT:G. Bellettini
URL:https://diploma-clear.ictp.it/courses/weekly-schedule/lecture-room-d/exam-60
CLASS:PUBLIC
END:VEVENT
END:VCALENDAR
