BEGIN:VCALENDAR
PRODID:-//AT Content Types//AT Event//EN
VERSION:1.0
BEGIN:VEVENT
DTSTART:20120514T140000Z
DTEND:20120514T153000Z
DCREATED:20120503T141001Z
UID:ATEvent-ad7a64dfde0b661bac775ec437c414ea
SEQUENCE:0
LAST-MODIFIED:20120503T141031Z
SUMMARY:EXAM
LOCATION:Lecture Room D
PRIORITY:3
TRANSP:0
END:VEVENT
END:VCALENDAR
