BEGIN:VCALENDAR
PRODID:-//AT Content Types//AT Event//EN
VERSION:2.0
METHOD:PUBLISH
BEGIN:VEVENT
DTSTAMP:20260423T122648Z
CREATED:20120215T133402Z
UID:ATEvent-93411463729ad0127df5a2893eb021f5
LAST-MODIFIED:20120215T133429Z
SUMMARY:EXAM
DTSTART:20120511T090000Z
DTEND:20120511T103000Z
LOCATION:Lecture Room D
CONTACT:S. Luzzatto
URL:https://diploma-clear.ictp.it/courses/weekly-schedule/lecture-room-d/exam-52
CLASS:PUBLIC
END:VEVENT
END:VCALENDAR
