BEGIN:VCALENDAR
PRODID:-//AT Content Types//AT Event//EN
VERSION:2.0
METHOD:PUBLISH
BEGIN:VEVENT
DTSTAMP:20260420T185605Z
CREATED:20090522T084205Z
UID:ATEvent-52bb50336942fd75e0565c7c4c0fb72c
LAST-MODIFIED:20090522T084237Z
SUMMARY:EXAM
DTSTART:20090529T090000Z
DTEND:20090529T103000Z
LOCATION:Lecture Room D
CONTACT:Michele Vendruscolo
URL:https://diploma-clear.ictp.it/courses/weekly-schedule/lecture-room-d/exam-12
CLASS:PUBLIC
END:VEVENT
END:VCALENDAR
