BEGIN:VCALENDAR
PRODID:-//AT Content Types//AT Event//EN
VERSION:2.0
METHOD:PUBLISH
BEGIN:VEVENT
DTSTAMP:20260420T232521Z
CREATED:20090525T092356Z
UID:ATEvent-476101412b0407e81e196e4a6d17401b
LAST-MODIFIED:20090525T092458Z
SUMMARY:ESP - MET
DTSTART:20090601T070000Z
DTEND:20090601T083000Z
LOCATION:Lecture Room D
CONTACT:Abdelkrim Aoudia
URL:https://diploma-clear.ictp.it/courses/weekly-schedule/lecture-room-d/esp-met
CLASS:PUBLIC
END:VEVENT
END:VCALENDAR
