BEGIN:VCALENDAR
PRODID:-//AT Content Types//AT Event//EN
VERSION:1.0
BEGIN:VEVENT
DTSTART:20140421T070000Z
DTEND:20140421T083000Z
DCREATED:20140416T130811Z
UID:ATEvent-be46d85ba6a34f53b12ac49fcb01930e
SEQUENCE:0
LAST-MODIFIED:20140416T130842Z
SUMMARY:EASTER MONDAY
LOCATION:Lecture Room D
PRIORITY:3
TRANSP:0
END:VEVENT
END:VCALENDAR
