BEGIN:VCALENDAR
PRODID:-//AT Content Types//AT Event//EN
VERSION:2.0
METHOD:PUBLISH
BEGIN:VEVENT
DTSTAMP:20260423T001649Z
CREATED:20081009T080924Z
UID:ATEvent-df12705e23a616ad42683f2ebecddda8
LAST-MODIFIED:20081009T082433Z
SUMMARY:OFFICIAL
DTSTART:20081031T100000Z
DTEND:20081031T113000Z
LOCATION:Lecture Room D
URL:https://diploma-clear.ictp.it/courses/weekly-schedule/lecture-room-d/copy3_of_ictp
CLASS:PUBLIC
END:VEVENT
END:VCALENDAR
