BEGIN:VCALENDAR
PRODID:-//AT Content Types//AT Event//EN
VERSION:1.0
BEGIN:VEVENT
DTSTART:20131115T130000Z
DTEND:20131115T143000Z
DCREATED:20130814T094502Z
UID:ATEvent-4b3934ff93e44e5aa6adcf4225a63090
SEQUENCE:0
LAST-MODIFIED:20131125T131344Z
SUMMARY:CMP-ST I
LOCATION:Lecture Room D
PRIORITY:3
TRANSP:0
END:VEVENT
END:VCALENDAR
