BEGIN:VCALENDAR
PRODID:-//AT Content Types//AT Event//EN
VERSION:2.0
METHOD:PUBLISH
BEGIN:VEVENT
DTSTAMP:20260423T035113Z
CREATED:20101203T092708Z
UID:ATEvent-e3f0900233cd2e6d65ae08bb25d00857
LAST-MODIFIED:20101203T092740Z
SUMMARY:CMP-SM tut.
DTSTART:20101207T100000Z
DTEND:20101207T113000Z
LOCATION:Lecture Room D
CONTACT:Xiaoquan Yu
URL:https://diploma-clear.ictp.it/courses/weekly-schedule/lecture-room-d/cmp-sm-tut-10
CLASS:PUBLIC
END:VEVENT
END:VCALENDAR
