BEGIN:VCALENDAR
PRODID:-//AT Content Types//AT Event//EN
VERSION:2.0
METHOD:PUBLISH
BEGIN:VEVENT
DTSTAMP:20260422T161701Z
CREATED:20131008T152308Z
UID:ATEvent-80570b368d9340cfb0007b7c4b0f96e1
LAST-MODIFIED:20131008T152611Z
SUMMARY:CMP-SM
DTSTART:20131021T120000Z
DTEND:20131021T133000Z
LOCATION:Lecture Room D
CONTACT:A. Scardicchio
URL:https://diploma-clear.ictp.it/courses/weekly-schedule/lecture-room-d/cmp-sm-83
CLASS:PUBLIC
END:VEVENT
END:VCALENDAR
